| Back to Workflows build report for BioC 3.10 |
This page was generated on 2020-04-15 18:30:18 -0400 (Wed, 15 Apr 2020).
| Package 10/27 | Hostname | OS / Arch | INSTALL | BUILD | ||||||
| eQTL 1.10.0 Vincent Carey
| malbec1 | Linux (Ubuntu 18.04.4 LTS) / x86_64 | OK | [ OK ] |
| Package: eQTL |
| Version: 1.10.0 |
| Command: /home/biocbuild/bbs-3.10-bioc/R/bin/R CMD build --keep-empty-dirs --no-resave-data eQTL |
| StartedAt: 2020-04-15 11:01:58 -0400 (Wed, 15 Apr 2020) |
| EndedAt: 2020-04-15 11:07:23 -0400 (Wed, 15 Apr 2020) |
| EllapsedTime: 324.8 seconds |
| RetCode: 0 |
| Status: OK |
| PackageFile: eQTL_1.10.0.tar.gz |
| PackageFileSize: 57.83 MiB |
############################################################################## ############################################################################## ### ### Running command: ### ### /home/biocbuild/bbs-3.10-bioc/R/bin/R CMD build --keep-empty-dirs --no-resave-data eQTL ### ############################################################################## ############################################################################## * checking for file ‘eQTL/DESCRIPTION’ ... OK * preparing ‘eQTL’: * checking DESCRIPTION meta-information ... OK * installing the package to build vignettes * creating vignettes ... OK * checking for LF line-endings in source and make files and shell scripts * checking for empty or unneeded directories * looking to see if a ‘data/datalist’ file should be added * creating default NAMESPACE file * building ‘eQTL_1.10.0.tar.gz’