| Back to Workflows build report for BioC 3.10 |
This page was generated on 2020-04-15 18:30:18 -0400 (Wed, 15 Apr 2020).
| Package 11/27 | Hostname | OS / Arch | INSTALL | BUILD | ||||||
| ExpressionNormalizationWorkflow 1.12.0 Karthikeyan Murugesan
| malbec1 | Linux (Ubuntu 18.04.4 LTS) / x86_64 | OK | [ OK ] |
| Package: ExpressionNormalizationWorkflow |
| Version: 1.12.0 |
| Command: /home/biocbuild/bbs-3.10-bioc/R/bin/R CMD build --keep-empty-dirs --no-resave-data ExpressionNormalizationWorkflow |
| StartedAt: 2020-04-15 11:02:22 -0400 (Wed, 15 Apr 2020) |
| EndedAt: 2020-04-15 11:10:02 -0400 (Wed, 15 Apr 2020) |
| EllapsedTime: 460.7 seconds |
| RetCode: 0 |
| Status: OK |
| PackageFile: ExpressionNormalizationWorkflow_1.12.0.tar.gz |
| PackageFileSize: 3.038 MiB |
############################################################################## ############################################################################## ### ### Running command: ### ### /home/biocbuild/bbs-3.10-bioc/R/bin/R CMD build --keep-empty-dirs --no-resave-data ExpressionNormalizationWorkflow ### ############################################################################## ############################################################################## * checking for file ‘ExpressionNormalizationWorkflow/DESCRIPTION’ ... OK * preparing ‘ExpressionNormalizationWorkflow’: * checking DESCRIPTION meta-information ... OK * installing the package to build vignettes * creating vignettes ... OK * checking for LF line-endings in source and make files and shell scripts * checking for empty or unneeded directories * building ‘ExpressionNormalizationWorkflow_1.12.0.tar.gz’