Back to Build/check report for BioC 3.10 experimental data |
This page was generated on 2020-04-14 17:46:24 -0400 (Tue, 14 Apr 2020).
Package 241/384 | Hostname | OS / Arch | INSTALL | BUILD | CHECK | ||||||
mtbls2 1.16.0 Steffen Neumann
| malbec1 | Linux (Ubuntu 18.04.4 LTS) / x86_64 | OK | [ OK ] | OK | ![]() |
Package: mtbls2 |
Version: 1.16.0 |
Command: /home/biocbuild/bbs-3.10-bioc/R/bin/R CMD build --keep-empty-dirs --no-resave-data mtbls2 |
StartedAt: 2020-04-14 12:00:05 -0400 (Tue, 14 Apr 2020) |
EndedAt: 2020-04-14 12:16:16 -0400 (Tue, 14 Apr 2020) |
EllapsedTime: 971.1 seconds |
RetCode: 0 |
Status: OK |
PackageFile: mtbls2_1.16.0.tar.gz |
PackageFileSize: 91.44 MiB |
############################################################################## ############################################################################## ### ### Running command: ### ### /home/biocbuild/bbs-3.10-bioc/R/bin/R CMD build --keep-empty-dirs --no-resave-data mtbls2 ### ############################################################################## ############################################################################## * checking for file ‘mtbls2/DESCRIPTION’ ... OK * preparing ‘mtbls2’: * checking DESCRIPTION meta-information ... OK * installing the package to build vignettes * creating vignettes ... OK * checking for LF line-endings in source and make files and shell scripts * checking for empty or unneeded directories * looking to see if a ‘data/datalist’ file should be added * building ‘mtbls2_1.16.0.tar.gz’