| Back to Build/check report for BioC 3.10 experimental data |
This page was generated on 2020-04-14 17:46:14 -0400 (Tue, 14 Apr 2020).
| Package 111/384 | Hostname | OS / Arch | INSTALL | BUILD | CHECK | ||||||
| faahKO 1.26.0 Colin A. Smith
| malbec1 | Linux (Ubuntu 18.04.4 LTS) / x86_64 | OK | OK | [ OK ] |
| Package: faahKO |
| Version: 1.26.0 |
| Command: /home/biocbuild/bbs-3.10-bioc/R/bin/R CMD check --install=check:faahKO.install-out.txt --library=/home/biocbuild/bbs-3.10-bioc/R/library --no-vignettes --timings faahKO_1.26.0.tar.gz |
| StartedAt: 2020-04-14 12:53:42 -0400 (Tue, 14 Apr 2020) |
| EndedAt: 2020-04-14 12:55:57 -0400 (Tue, 14 Apr 2020) |
| EllapsedTime: 134.6 seconds |
| RetCode: 0 |
| Status: OK |
| CheckDir: faahKO.Rcheck |
| Warnings: 0 |
##############################################################################
##############################################################################
###
### Running command:
###
### /home/biocbuild/bbs-3.10-bioc/R/bin/R CMD check --install=check:faahKO.install-out.txt --library=/home/biocbuild/bbs-3.10-bioc/R/library --no-vignettes --timings faahKO_1.26.0.tar.gz
###
##############################################################################
##############################################################################
* using log directory ‘/home/biocbuild/bbs-3.10-data-experiment/meat/faahKO.Rcheck’
* using R version 3.6.3 (2020-02-29)
* using platform: x86_64-pc-linux-gnu (64-bit)
* using session charset: UTF-8
* using option ‘--no-vignettes’
* checking for file ‘faahKO/DESCRIPTION’ ... OK
* this is package ‘faahKO’ version ‘1.26.0’
* checking package namespace information ... OK
* checking package dependencies ... OK
* checking if this is a source package ... OK
* checking if there is a namespace ... OK
* checking for hidden files and directories ... OK
* checking for portable file names ... OK
* checking for sufficient/correct file permissions ... OK
* checking whether package ‘faahKO’ can be installed ... OK
* checking installed package size ... NOTE
installed size is 42.8Mb
sub-directories of 1Mb or more:
cdf 42.4Mb
* checking package directory ... OK
* checking DESCRIPTION meta-information ... OK
* checking top-level files ... OK
* checking for left-over files ... OK
* checking index information ... OK
* checking package subdirectories ... OK
* checking R files for non-ASCII characters ... OK
* checking R files for syntax errors ... OK
* checking whether the package can be loaded ... OK
* checking whether the package can be loaded with stated dependencies ... OK
* checking whether the package can be unloaded cleanly ... OK
* checking whether the namespace can be loaded with stated dependencies ... OK
* checking whether the namespace can be unloaded cleanly ... OK
* checking dependencies in R code ... NOTE
'library' or 'require' call to ‘xcms’ which was already attached by Depends.
Please remove these calls from your code.
Package in Depends field not imported from: ‘xcms’
These packages need to be imported from (in the NAMESPACE file)
for when this namespace is loaded but not attached.
* checking S3 generic/method consistency ... OK
* checking replacement functions ... OK
* checking foreign function calls ... OK
* checking R code for possible problems ... NOTE
File ‘faahKO/R/zzz.R’:
.onLoad calls:
require(xcms)
Package startup functions should not change the search path.
See section ‘Good practice’ in '?.onAttach'.
.onLoad: warning in assign("faahko", faahko, env =
getNamespace("faahKO")): partial argument match of 'env' to 'envir'
* checking Rd files ... OK
* checking Rd metadata ... OK
* checking Rd cross-references ... OK
* checking for missing documentation entries ... OK
* checking for code/documentation mismatches ... OK
* checking Rd \usage sections ... OK
* checking Rd contents ... OK
* checking for unstated dependencies in examples ... OK
* checking contents of ‘data’ directory ... OK
* checking data for non-ASCII characters ... OK
* checking data for ASCII and uncompressed saves ... OK
* checking examples ... OK
* checking PDF version of manual ... OK
* DONE
Status: 3 NOTEs
See
‘/home/biocbuild/bbs-3.10-data-experiment/meat/faahKO.Rcheck/00check.log’
for details.
faahKO.Rcheck/00install.out
############################################################################## ############################################################################## ### ### Running command: ### ### /home/biocbuild/bbs-3.10-bioc/R/bin/R CMD INSTALL faahKO ### ############################################################################## ############################################################################## * installing to library ‘/home/biocbuild/bbs-3.10-bioc/R/library’ * installing *source* package ‘faahKO’ ... ** using staged installation ** R ** data ** inst ** byte-compile and prepare package for lazy loading ** help *** installing help indices ** building package indices ** testing if installed package can be loaded from temporary location ** testing if installed package can be loaded from final location ** testing if installed package keeps a record of temporary installation path * DONE (faahKO)
faahKO.Rcheck/faahKO-Ex.timings
| name | user | system | elapsed | |
| faahko | 1.536 | 0.060 | 1.749 | |