| Back to Build/check report for BioC 3.10 experimental data | 
This page was generated on 2020-04-14 17:46:25 -0400 (Tue, 14 Apr 2020).
| Package 110/384 | Hostname | OS / Arch | INSTALL | BUILD | CHECK | ||||||
| etec16s 1.14.0 Joseph N. Paulson 
 | malbec1 | Linux (Ubuntu 18.04.4 LTS) / x86_64 | [ OK ] | OK | OK |  | 
| Package: etec16s | 
| Version: 1.14.0 | 
| Command: /home/biocbuild/bbs-3.10-bioc/R/bin/R CMD INSTALL etec16s | 
| StartedAt: 2020-04-14 11:08:11 -0400 (Tue, 14 Apr 2020) | 
| EndedAt: 2020-04-14 11:08:29 -0400 (Tue, 14 Apr 2020) | 
| EllapsedTime: 18.2 seconds | 
| RetCode: 0 | 
| Status: OK | 
############################################################################## ############################################################################## ### ### Running command: ### ### /home/biocbuild/bbs-3.10-bioc/R/bin/R CMD INSTALL etec16s ### ############################################################################## ############################################################################## * installing to library ‘/home/biocbuild/bbs-3.10-bioc/R/library’ * installing *source* package ‘etec16s’ ... ** using staged installation ** data *** moving datasets to lazyload DB ** inst ** help *** installing help indices ** building package indices ** installing vignettes ** testing if installed package can be loaded from temporary location ** testing if installed package can be loaded from final location ** testing if installed package keeps a record of temporary installation path * DONE (etec16s)