| Back to Build/check report for BioC 3.10 experimental data |
This page was generated on 2020-04-14 17:46:21 -0400 (Tue, 14 Apr 2020).
| Package 60/384 | Hostname | OS / Arch | INSTALL | BUILD | CHECK | ||||||
| chipenrich.data 2.10.0 Raymond G. Cavalcante
| malbec1 | Linux (Ubuntu 18.04.4 LTS) / x86_64 | OK | [ OK ] | OK |
| Package: chipenrich.data |
| Version: 2.10.0 |
| Command: /home/biocbuild/bbs-3.10-bioc/R/bin/R CMD build --keep-empty-dirs --no-resave-data chipenrich.data |
| StartedAt: 2020-04-14 11:46:25 -0400 (Tue, 14 Apr 2020) |
| EndedAt: 2020-04-14 11:48:30 -0400 (Tue, 14 Apr 2020) |
| EllapsedTime: 125.7 seconds |
| RetCode: 0 |
| Status: OK |
| PackageFile: chipenrich.data_2.10.0.tar.gz |
| PackageFileSize: 73.41 MiB |
##############################################################################
##############################################################################
###
### Running command:
###
### /home/biocbuild/bbs-3.10-bioc/R/bin/R CMD build --keep-empty-dirs --no-resave-data chipenrich.data
###
##############################################################################
##############################################################################
* checking for file ‘chipenrich.data/DESCRIPTION’ ... OK
* preparing ‘chipenrich.data’:
* checking DESCRIPTION meta-information ... OK
* installing the package to build vignettes
* creating vignettes ... OK
Warning: ‘inst/doc’ files
‘chipenrich.data-vignette.Rmd’, ‘chipenrich.data-vignette.html’, ‘chipenrich.data-vignette.R’
ignored as vignettes have been rebuilt.
Run R CMD build with --no-build-vignettes to prevent rebuilding.
* checking for LF line-endings in source and make files and shell scripts
* checking for empty or unneeded directories
* looking to see if a ‘data/datalist’ file should be added
* building ‘chipenrich.data_2.10.0.tar.gz’