| Back to Build/check report for BioC 3.10 experimental data |
This page was generated on 2020-04-14 17:46:22 -0400 (Tue, 14 Apr 2020).
| Package 53/384 | Hostname | OS / Arch | INSTALL | BUILD | CHECK | ||||||
| ceu1kgv 0.28.0 VJ Carey
| malbec1 | Linux (Ubuntu 18.04.4 LTS) / x86_64 | OK | OK | [ OK ] |
| Package: ceu1kgv |
| Version: 0.28.0 |
| Command: /home/biocbuild/bbs-3.10-bioc/R/bin/R CMD check --install=check:ceu1kgv.install-out.txt --library=/home/biocbuild/bbs-3.10-bioc/R/library --no-vignettes --timings ceu1kgv_0.28.0.tar.gz |
| StartedAt: 2020-04-14 13:18:59 -0400 (Tue, 14 Apr 2020) |
| EndedAt: 2020-04-14 13:20:53 -0400 (Tue, 14 Apr 2020) |
| EllapsedTime: 114.5 seconds |
| RetCode: 0 |
| Status: OK |
| CheckDir: ceu1kgv.Rcheck |
| Warnings: 0 |
##############################################################################
##############################################################################
###
### Running command:
###
### /home/biocbuild/bbs-3.10-bioc/R/bin/R CMD check --install=check:ceu1kgv.install-out.txt --library=/home/biocbuild/bbs-3.10-bioc/R/library --no-vignettes --timings ceu1kgv_0.28.0.tar.gz
###
##############################################################################
##############################################################################
* using log directory ‘/home/biocbuild/bbs-3.10-data-experiment/meat/ceu1kgv.Rcheck’
* using R version 3.6.3 (2020-02-29)
* using platform: x86_64-pc-linux-gnu (64-bit)
* using session charset: UTF-8
* using option ‘--no-vignettes’
* checking for file ‘ceu1kgv/DESCRIPTION’ ... OK
* this is package ‘ceu1kgv’ version ‘0.28.0’
* checking package namespace information ... OK
* checking package dependencies ... OK
* checking if this is a source package ... OK
* checking if there is a namespace ... OK
* checking for hidden files and directories ... OK
* checking for portable file names ... OK
* checking for sufficient/correct file permissions ... OK
* checking whether package ‘ceu1kgv’ can be installed ... OK
* checking installed package size ... NOTE
installed size is 276.6Mb
sub-directories of 1Mb or more:
data 24.5Mb
parts 252.0Mb
* checking package directory ... OK
* checking ‘build’ directory ... OK
* checking DESCRIPTION meta-information ... NOTE
Malformed Description field: should contain one or more complete sentences.
* checking top-level files ... OK
* checking for left-over files ... OK
* checking index information ... OK
* checking package subdirectories ... OK
* checking R files for non-ASCII characters ... OK
* checking R files for syntax errors ... OK
* checking whether the package can be loaded ... OK
* checking whether the package can be loaded with stated dependencies ... OK
* checking whether the package can be unloaded cleanly ... OK
* checking whether the namespace can be loaded with stated dependencies ... OK
* checking whether the namespace can be unloaded cleanly ... OK
* checking dependencies in R code ... NOTE
Package in Depends field not imported from: ‘GGBase’
These packages need to be imported from (in the NAMESPACE file)
for when this namespace is loaded but not attached.
* checking S3 generic/method consistency ... OK
* checking replacement functions ... OK
* checking foreign function calls ... OK
* checking R code for possible problems ... NOTE
File ‘ceu1kgv/R/zzz.R’:
.onLoad calls:
packageStartupMessage(paste("To get a tailored smlSet, use getSS(\"", pkgname, "\", [chrvec])", sep = ""), "\n")
packageStartupMessage("available chromosomes are named ", paste(selectSome(cn), collapse = ", "), "\n")
See section ‘Good practice’ in '?.onAttach'.
* checking Rd files ... OK
* checking Rd metadata ... OK
* checking Rd cross-references ... OK
* checking for missing documentation entries ... OK
* checking for code/documentation mismatches ... OK
* checking Rd \usage sections ... OK
* checking Rd contents ... OK
* checking for unstated dependencies in examples ... OK
* checking contents of ‘data’ directory ... OK
* checking data for non-ASCII characters ... OK
* checking data for ASCII and uncompressed saves ... OK
* checking files in ‘vignettes’ ... OK
* checking examples ... NONE
* checking for unstated dependencies in vignettes ... OK
* checking package vignettes in ‘inst/doc’ ... OK
* checking running R code from vignettes ... SKIPPED
* checking re-building of vignette outputs ... SKIPPED
* checking PDF version of manual ... OK
* DONE
Status: 4 NOTEs
See
‘/home/biocbuild/bbs-3.10-data-experiment/meat/ceu1kgv.Rcheck/00check.log’
for details.
ceu1kgv.Rcheck/00install.out
##############################################################################
##############################################################################
###
### Running command:
###
### /home/biocbuild/bbs-3.10-bioc/R/bin/R CMD INSTALL ceu1kgv
###
##############################################################################
##############################################################################
* installing to library ‘/home/biocbuild/bbs-3.10-bioc/R/library’
* installing *source* package ‘ceu1kgv’ ...
** using staged installation
** R
** data
** inst
** byte-compile and prepare package for lazy loading
Warning in tools:::makeLazyLoading("ceu1kgv", "/home/biocbuild/bbs-3.10-bioc/R/library/00LOCK-ceu1kgv/00new", :
package seems to be using lazy loading already
** help
*** installing help indices
** building package indices
** installing vignettes
** testing if installed package can be loaded from temporary location
** testing if installed package can be loaded from final location
** testing if installed package keeps a record of temporary installation path
* DONE (ceu1kgv)