Back to Build/check report for BioC 3.10 experimental data |
This page was generated on 2020-04-14 17:46:25 -0400 (Tue, 14 Apr 2020).
Package 14/384 | Hostname | OS / Arch | INSTALL | BUILD | CHECK | ||||||
alpineData 1.12.0 Michael Love
| malbec1 | Linux (Ubuntu 18.04.4 LTS) / x86_64 | OK | [ OK ] | OK | ![]() |
Package: alpineData |
Version: 1.12.0 |
Command: /home/biocbuild/bbs-3.10-bioc/R/bin/R CMD build --keep-empty-dirs --no-resave-data alpineData |
StartedAt: 2020-04-14 12:15:46 -0400 (Tue, 14 Apr 2020) |
EndedAt: 2020-04-14 12:16:35 -0400 (Tue, 14 Apr 2020) |
EllapsedTime: 48.7 seconds |
RetCode: 0 |
Status: OK |
PackageFile: alpineData_1.12.0.tar.gz |
PackageFileSize: 21.72 KiB |
############################################################################## ############################################################################## ### ### Running command: ### ### /home/biocbuild/bbs-3.10-bioc/R/bin/R CMD build --keep-empty-dirs --no-resave-data alpineData ### ############################################################################## ############################################################################## * checking for file ‘alpineData/DESCRIPTION’ ... OK * preparing ‘alpineData’: * checking DESCRIPTION meta-information ... OK * installing the package to build vignettes * creating vignettes ... OK * checking for LF line-endings in source and make files and shell scripts * checking for empty or unneeded directories * building ‘alpineData_1.12.0.tar.gz’