Back to Build/check report for BioC 3.10 experimental data |
This page was generated on 2020-04-14 17:46:21 -0400 (Tue, 14 Apr 2020).
Package 77/384 | Hostname | OS / Arch | INSTALL | BUILD | CHECK | ||||||
COSMIC.67 1.22.0 Julian Gehring
| malbec1 | Linux (Ubuntu 18.04.4 LTS) / x86_64 | OK | [ OK ] | OK |
Package: COSMIC.67 |
Version: 1.22.0 |
Command: /home/biocbuild/bbs-3.10-bioc/R/bin/R CMD build --keep-empty-dirs --no-resave-data COSMIC.67 |
StartedAt: 2020-04-14 11:48:03 -0400 (Tue, 14 Apr 2020) |
EndedAt: 2020-04-14 11:48:57 -0400 (Tue, 14 Apr 2020) |
EllapsedTime: 54.3 seconds |
RetCode: 0 |
Status: OK |
PackageFile: COSMIC.67_1.22.0.tar.gz |
PackageFileSize: 39.17 MiB |
############################################################################## ############################################################################## ### ### Running command: ### ### /home/biocbuild/bbs-3.10-bioc/R/bin/R CMD build --keep-empty-dirs --no-resave-data COSMIC.67 ### ############################################################################## ############################################################################## * checking for file ‘COSMIC.67/DESCRIPTION’ ... OK * preparing ‘COSMIC.67’: * checking DESCRIPTION meta-information ... OK * installing the package to build vignettes * creating vignettes ... OK * checking for LF line-endings in source and make files and shell scripts * checking for empty or unneeded directories * looking to see if a ‘data/datalist’ file should be added * building ‘COSMIC.67_1.22.0.tar.gz’