| Back to Multiple platform build/check report for BioC 3.10 |
|
This page was generated on 2020-04-15 12:45:48 -0400 (Wed, 15 Apr 2020).
| Package 1821/1823 | Hostname | OS / Arch | INSTALL | BUILD | CHECK | BUILD BIN | ||||||
| zFPKM 1.8.0 Ron Ammar
| malbec1 | Linux (Ubuntu 18.04.4 LTS) / x86_64 | OK | OK | OK | |||||||
| tokay1 | Windows Server 2012 R2 Standard / x64 | OK | OK | OK | OK | |||||||
| merida1 | OS X 10.11.6 El Capitan / x86_64 | OK | OK | OK | [ OK ] |
| Package: zFPKM |
| Version: 1.8.0 |
| Command: rm -rf zFPKM.buildbin-libdir && mkdir zFPKM.buildbin-libdir && /Users/biocbuild/BBS/utils/build-universal.sh zFPKM_1.8.0.tar.gz /Library/Frameworks/R.framework/Versions/Current/Resources/bin/R zFPKM.buildbin-libdir |
| StartedAt: 2020-04-15 09:06:42 -0400 (Wed, 15 Apr 2020) |
| EndedAt: 2020-04-15 09:07:23 -0400 (Wed, 15 Apr 2020) |
| EllapsedTime: 41.3 seconds |
| RetCode: 0 |
| Status: OK |
| PackageFile: zFPKM_1.8.0.tgz |
| PackageFileSize: 220.9 KiB |
############################################################################## ############################################################################## ### ### Running command: ### ### rm -rf zFPKM.buildbin-libdir && mkdir zFPKM.buildbin-libdir && /Users/biocbuild/BBS/utils/build-universal.sh zFPKM_1.8.0.tar.gz /Library/Frameworks/R.framework/Versions/Current/Resources/bin/R zFPKM.buildbin-libdir ### ############################################################################## ############################################################################## >>>>>>> >>>>>>> INSTALLATION WITH 'R CMD INSTALL --preclean --no-multiarch --library=zFPKM.buildbin-libdir zFPKM_1.8.0.tar.gz' >>>>>>> * installing *source* package ‘zFPKM’ ... ** using staged installation ** R ** inst ** byte-compile and prepare package for lazy loading ** help *** installing help indices ** building package indices ** installing vignettes ** testing if installed package can be loaded from temporary location ** testing if installed package can be loaded from final location ** testing if installed package keeps a record of temporary installation path * DONE (zFPKM)