| Back to Multiple platform build/check report for BioC 3.10 | 
 | 
This page was generated on 2020-04-15 12:28:13 -0400 (Wed, 15 Apr 2020).
| Package 1806/1823 | Hostname | OS / Arch | INSTALL | BUILD | CHECK | BUILD BIN | ||||||
| wiggleplotr 1.10.1 Kaur Alasoo 
 | malbec1 | Linux (Ubuntu 18.04.4 LTS) / x86_64 | OK | OK | OK |  | ||||||
| tokay1 | Windows Server 2012 R2 Standard / x64 | [ OK ] | OK | OK | OK |  | ||||||
| merida1 | OS X 10.11.6 El Capitan / x86_64 | OK | OK | OK | OK |  | 
| Package: wiggleplotr | 
| Version: 1.10.1 | 
| Command: C:\cygwin\bin\curl.exe -O https://malbec1.bioconductor.org/BBS/3.10/bioc/src/contrib/wiggleplotr_1.10.1.tar.gz && rm -rf wiggleplotr.buildbin-libdir && mkdir wiggleplotr.buildbin-libdir && C:\Users\biocbuild\bbs-3.10-bioc\R\bin\R.exe CMD INSTALL --merge-multiarch --build --library=wiggleplotr.buildbin-libdir wiggleplotr_1.10.1.tar.gz && C:\Users\biocbuild\bbs-3.10-bioc\R\bin\R.exe CMD INSTALL wiggleplotr_1.10.1.zip && rm wiggleplotr_1.10.1.tar.gz wiggleplotr_1.10.1.zip | 
| StartedAt: 2020-04-14 19:51:47 -0400 (Tue, 14 Apr 2020) | 
| EndedAt: 2020-04-14 19:52:15 -0400 (Tue, 14 Apr 2020) | 
| EllapsedTime: 27.6 seconds | 
| RetCode: 0 | 
| Status: OK | 
##############################################################################
##############################################################################
###
### Running command:
###
###   C:\cygwin\bin\curl.exe -O https://malbec1.bioconductor.org/BBS/3.10/bioc/src/contrib/wiggleplotr_1.10.1.tar.gz && rm -rf wiggleplotr.buildbin-libdir && mkdir wiggleplotr.buildbin-libdir && C:\Users\biocbuild\bbs-3.10-bioc\R\bin\R.exe CMD INSTALL --merge-multiarch --build --library=wiggleplotr.buildbin-libdir wiggleplotr_1.10.1.tar.gz && C:\Users\biocbuild\bbs-3.10-bioc\R\bin\R.exe CMD INSTALL wiggleplotr_1.10.1.zip && rm wiggleplotr_1.10.1.tar.gz wiggleplotr_1.10.1.zip
###
##############################################################################
##############################################################################
  % Total    % Received % Xferd  Average Speed   Time    Time     Time  Current
                                 Dload  Upload   Total   Spent    Left  Speed
  0     0    0     0    0     0      0      0 --:--:-- --:--:-- --:--:--     0
100  518k  100  518k    0     0  5462k      0 --:--:-- --:--:-- --:--:-- 5702k
install for i386
* installing *source* package 'wiggleplotr' ...
** using staged installation
** R
** data
*** moving datasets to lazyload DB
** inst
** byte-compile and prepare package for lazy loading
** help
*** installing help indices
  converting help for package 'wiggleplotr'
    finding HTML links ... done
    getGenotypePalette                      html  
    makeManhattanPlot                       html  
    ncoa7_cdss                              html  
    ncoa7_exons                             html  
    ncoa7_metadata                          html  
    pasteFactors                            html  
    plotCoverage                            html  
    plotCoverageFromEnsembldb               html  
    plotCoverageFromUCSC                    html  
    plotTranscripts                         html  
    plotTranscriptsFromEnsembldb            html  
    plotTranscriptsFromUCSC                 html  
    wiggleplotr                             html  
** building package indices
** installing vignettes
** testing if installed package can be loaded from temporary location
** testing if installed package can be loaded from final location
** testing if installed package keeps a record of temporary installation path
install for x64
* installing *source* package 'wiggleplotr' ...
** testing if installed package can be loaded
* MD5 sums
packaged installation of 'wiggleplotr' as wiggleplotr_1.10.1.zip
* DONE (wiggleplotr)
* installing to library 'C:/Users/biocbuild/bbs-3.10-bioc/R/library'
package 'wiggleplotr' successfully unpacked and MD5 sums checked