| Back to Multiple platform build/check report for BioC 3.10 | 
 | 
This page was generated on 2020-04-15 12:16:41 -0400 (Wed, 15 Apr 2020).
| Package 1805/1823 | Hostname | OS / Arch | INSTALL | BUILD | CHECK | BUILD BIN | ||||||
| widgetTools 1.64.0 Jianhua Zhang 
 | malbec1 | Linux (Ubuntu 18.04.4 LTS) / x86_64 | OK | OK | OK |  | ||||||
| tokay1 | Windows Server 2012 R2 Standard / x64 | [ OK ] | OK | OK | OK |  | ||||||
| merida1 | OS X 10.11.6 El Capitan / x86_64 | OK | OK | OK | OK |  | 
| Package: widgetTools | 
| Version: 1.64.0 | 
| Command: C:\cygwin\bin\curl.exe -O https://malbec1.bioconductor.org/BBS/3.10/bioc/src/contrib/widgetTools_1.64.0.tar.gz && rm -rf widgetTools.buildbin-libdir && mkdir widgetTools.buildbin-libdir && C:\Users\biocbuild\bbs-3.10-bioc\R\bin\R.exe CMD INSTALL --merge-multiarch --build --library=widgetTools.buildbin-libdir widgetTools_1.64.0.tar.gz && C:\Users\biocbuild\bbs-3.10-bioc\R\bin\R.exe CMD INSTALL widgetTools_1.64.0.zip && rm widgetTools_1.64.0.tar.gz widgetTools_1.64.0.zip | 
| StartedAt: 2020-04-14 18:33:37 -0400 (Tue, 14 Apr 2020) | 
| EndedAt: 2020-04-14 18:34:00 -0400 (Tue, 14 Apr 2020) | 
| EllapsedTime: 23.2 seconds | 
| RetCode: 0 | 
| Status: OK | 
##############################################################################
##############################################################################
###
### Running command:
###
###   C:\cygwin\bin\curl.exe -O https://malbec1.bioconductor.org/BBS/3.10/bioc/src/contrib/widgetTools_1.64.0.tar.gz && rm -rf widgetTools.buildbin-libdir && mkdir widgetTools.buildbin-libdir && C:\Users\biocbuild\bbs-3.10-bioc\R\bin\R.exe CMD INSTALL --merge-multiarch --build --library=widgetTools.buildbin-libdir widgetTools_1.64.0.tar.gz && C:\Users\biocbuild\bbs-3.10-bioc\R\bin\R.exe CMD INSTALL widgetTools_1.64.0.zip && rm widgetTools_1.64.0.tar.gz widgetTools_1.64.0.zip
###
##############################################################################
##############################################################################
  % Total    % Received % Xferd  Average Speed   Time    Time     Time  Current
                                 Dload  Upload   Total   Spent    Left  Speed
  0     0    0     0    0     0      0      0 --:--:-- --:--:-- --:--:--     0
100 36033  100 36033    0     0   954k      0 --:--:-- --:--:-- --:--:-- 1066k
install for i386
* installing *source* package 'widgetTools' ...
** using staged installation
** R
** byte-compile and prepare package for lazy loading
** help
*** installing help indices
  converting help for package 'widgetTools'
    finding HTML links ... done
    basicPW-class                           html  
    button                                  html  
    dropdownList                            html  
    makeViewer                              html  
    oneVScrList                             html  
    safeFileOpen                            html  
    tooltip                                 html  
    widget-class                            html  
    widgetView-class                        html  
    writeText                               html  
** building package indices
** installing vignettes
** testing if installed package can be loaded from temporary location
** testing if installed package can be loaded from final location
** testing if installed package keeps a record of temporary installation path
install for x64
* installing *source* package 'widgetTools' ...
** testing if installed package can be loaded
* MD5 sums
packaged installation of 'widgetTools' as widgetTools_1.64.0.zip
* DONE (widgetTools)
* installing to library 'C:/Users/biocbuild/bbs-3.10-bioc/R/library'
package 'widgetTools' successfully unpacked and MD5 sums checked