| Back to Multiple platform build/check report for BioC 3.10 | 
  | 
This page was generated on 2020-04-15 12:16:49 -0400 (Wed, 15 Apr 2020).
| Package 1804/1823 | Hostname | OS / Arch | INSTALL | BUILD | CHECK | BUILD BIN | ||||||
| webbioc 1.58.0 Colin A. Smith 
  | malbec1 | Linux (Ubuntu 18.04.4 LTS) / x86_64 | OK | OK | OK | |||||||
| tokay1 | Windows Server 2012 R2 Standard / x64 | OK | OK | OK | [ OK ] | |||||||
| merida1 | OS X 10.11.6 El Capitan / x86_64 | OK | OK | OK | OK | 
| Package: webbioc | 
| Version: 1.58.0 | 
| Command: rm -rf webbioc.buildbin-libdir && mkdir webbioc.buildbin-libdir && C:\Users\biocbuild\bbs-3.10-bioc\R\bin\R.exe CMD INSTALL --merge-multiarch --build --library=webbioc.buildbin-libdir webbioc_1.58.0.tar.gz | 
| StartedAt: 2020-04-15 09:53:48 -0400 (Wed, 15 Apr 2020) | 
| EndedAt: 2020-04-15 09:54:12 -0400 (Wed, 15 Apr 2020) | 
| EllapsedTime: 24.6 seconds | 
| RetCode: 0 | 
| Status: OK | 
| PackageFile: webbioc_1.58.0.zip | 
| PackageFileSize: 211.2 KiB | 
##############################################################################
##############################################################################
###
### Running command:
###
###   rm -rf webbioc.buildbin-libdir && mkdir webbioc.buildbin-libdir && C:\Users\biocbuild\bbs-3.10-bioc\R\bin\R.exe CMD INSTALL --merge-multiarch --build --library=webbioc.buildbin-libdir webbioc_1.58.0.tar.gz
###
##############################################################################
##############################################################################
install for i386
* installing *source* package 'webbioc' ...
** using staged installation
** R
** inst
** byte-compile and prepare package for lazy loading
** help
*** installing help indices
  converting help for package 'webbioc'
    finding HTML links ... done
    installReps                             html  
    mt.wrapper                              html  
** building package indices
** installing vignettes
** testing if installed package can be loaded from temporary location
** testing if installed package can be loaded from final location
** testing if installed package keeps a record of temporary installation path
install for x64
* installing *source* package 'webbioc' ...
** testing if installed package can be loaded
* MD5 sums
packaged installation of 'webbioc' as webbioc_1.58.0.zip
* DONE (webbioc)