| Back to Multiple platform build/check report for BioC 3.10 | 
 | 
This page was generated on 2020-04-15 12:18:43 -0400 (Wed, 15 Apr 2020).
| Package 1763/1823 | Hostname | OS / Arch | INSTALL | BUILD | CHECK | BUILD BIN | ||||||
| tspair 1.44.0 Jeffrey T. Leek 
 | malbec1 | Linux (Ubuntu 18.04.4 LTS) / x86_64 | OK | OK | OK |  | ||||||
| tokay1 | Windows Server 2012 R2 Standard / x64 | OK | OK | OK | [ OK ] |  | ||||||
| merida1 | OS X 10.11.6 El Capitan / x86_64 | OK | OK | OK | OK |  | 
| Package: tspair | 
| Version: 1.44.0 | 
| Command: rm -rf tspair.buildbin-libdir && mkdir tspair.buildbin-libdir && C:\Users\biocbuild\bbs-3.10-bioc\R\bin\R.exe CMD INSTALL --merge-multiarch --build --library=tspair.buildbin-libdir tspair_1.44.0.tar.gz | 
| StartedAt: 2020-04-15 09:51:33 -0400 (Wed, 15 Apr 2020) | 
| EndedAt: 2020-04-15 09:52:22 -0400 (Wed, 15 Apr 2020) | 
| EllapsedTime: 48.5 seconds | 
| RetCode: 0 | 
| Status: OK | 
| PackageFile: tspair_1.44.0.zip | 
| PackageFileSize: 692.7 KiB | 
##############################################################################
##############################################################################
###
### Running command:
###
###   rm -rf tspair.buildbin-libdir && mkdir tspair.buildbin-libdir && C:\Users\biocbuild\bbs-3.10-bioc\R\bin\R.exe CMD INSTALL --merge-multiarch --build --library=tspair.buildbin-libdir tspair_1.44.0.tar.gz
###
##############################################################################
##############################################################################
install for i386
* installing *source* package 'tspair' ...
** using staged installation
** libs
C:/Rtools/mingw_32/bin/gcc  -I"C:/Users/BIOCBU~1/BBS-3~1.10-/R/include" -DNDEBUG     -I"C:/extsoft/include"     -O3 -Wall  -std=gnu99 -mtune=core2 -c tsp.c -o tsp.o
C:/Rtools/mingw_32/bin/gcc -shared -s -static-libgcc -o tspair.dll tmp.def tsp.o -LC:/extsoft/lib/i386 -LC:/extsoft/lib -LC:/Users/BIOCBU~1/BBS-3~1.10-/R/bin/i386 -lR
installing to C:/Users/biocbuild/bbs-3.10-bioc/meat/tspair.buildbin-libdir/00LOCK-tspair/00new/tspair/libs/i386
** R
** data
** inst
** byte-compile and prepare package for lazy loading
** help
*** installing help indices
  converting help for package 'tspair'
    finding HTML links ... done
    dat                                     html  
    dat2                                    html  
    eSet1                                   html  
    eSet2                                   html  
    grp                                     html  
    plot.tsp                                html  
    predict.tsp                             html  
    summary.tsp                             html  
    ts.pair                                 html  
    tspcalc                                 html  
    tspdata                                 html  
    tspplot                                 html  
    tspsig                                  html  
** building package indices
** installing vignettes
** testing if installed package can be loaded from temporary location
** testing if installed package can be loaded from final location
** testing if installed package keeps a record of temporary installation path
install for x64
* installing *source* package 'tspair' ...
** libs
C:/Rtools/mingw_64/bin/gcc  -I"C:/Users/BIOCBU~1/BBS-3~1.10-/R/include" -DNDEBUG     -I"C:/extsoft/include"     -O2 -Wall  -std=gnu99 -mtune=core2 -c tsp.c -o tsp.o
C:/Rtools/mingw_64/bin/gcc -shared -s -static-libgcc -o tspair.dll tmp.def tsp.o -LC:/extsoft/lib/x64 -LC:/extsoft/lib -LC:/Users/BIOCBU~1/BBS-3~1.10-/R/bin/x64 -lR
installing to C:/Users/biocbuild/bbs-3.10-bioc/meat/tspair.buildbin-libdir/tspair/libs/x64
** testing if installed package can be loaded
* MD5 sums
packaged installation of 'tspair' as tspair_1.44.0.zip
* DONE (tspair)