| Back to Multiple platform build/check report for BioC 3.10 |
|
This page was generated on 2020-04-15 12:39:07 -0400 (Wed, 15 Apr 2020).
| Package 1756/1823 | Hostname | OS / Arch | INSTALL | BUILD | CHECK | BUILD BIN | ||||||
| trio 3.24.3 Holger Schwender
| malbec1 | Linux (Ubuntu 18.04.4 LTS) / x86_64 | OK | OK | OK | |||||||
| tokay1 | Windows Server 2012 R2 Standard / x64 | OK | OK | OK | OK | |||||||
| merida1 | OS X 10.11.6 El Capitan / x86_64 | OK | [ OK ] | OK | OK |
| Package: trio |
| Version: 3.24.3 |
| Command: /Library/Frameworks/R.framework/Versions/Current/Resources/bin/R CMD build --keep-empty-dirs --no-resave-data trio |
| StartedAt: 2020-04-14 20:51:48 -0400 (Tue, 14 Apr 2020) |
| EndedAt: 2020-04-14 20:52:48 -0400 (Tue, 14 Apr 2020) |
| EllapsedTime: 59.9 seconds |
| RetCode: 0 |
| Status: OK |
| PackageFile: trio_3.24.3.tar.gz |
| PackageFileSize: 751.7 KiB |
##############################################################################
##############################################################################
###
### Running command:
###
### /Library/Frameworks/R.framework/Versions/Current/Resources/bin/R CMD build --keep-empty-dirs --no-resave-data trio
###
##############################################################################
##############################################################################
* checking for file ‘trio/DESCRIPTION’ ... OK
* preparing ‘trio’:
* checking DESCRIPTION meta-information ... OK
* installing the package to build vignettes
* creating vignettes ... OK
Warning: ‘inst/doc’ file
‘trio.pdf’
ignored as vignettes have been rebuilt.
Run R CMD build with --no-build-vignettes to prevent rebuilding.
* checking for LF line-endings in source and make files and shell scripts
* checking for empty or unneeded directories
* looking to see if a ‘data/datalist’ file should be added
* building ‘trio_3.24.3.tar.gz’