| Back to Multiple platform build/check report for BioC 3.10 | 
 | 
This page was generated on 2020-04-15 12:22:31 -0400 (Wed, 15 Apr 2020).
| Package 1742/1823 | Hostname | OS / Arch | INSTALL | BUILD | CHECK | BUILD BIN | ||||||
| trackViewer 1.22.1 Jianhong Ou 
 | malbec1 | Linux (Ubuntu 18.04.4 LTS) / x86_64 | OK | OK | OK |  | ||||||
| tokay1 | Windows Server 2012 R2 Standard / x64 | [ OK ] | OK | OK | OK |  | ||||||
| merida1 | OS X 10.11.6 El Capitan / x86_64 | OK | OK | OK | OK |  | 
| Package: trackViewer | 
| Version: 1.22.1 | 
| Command: C:\cygwin\bin\curl.exe -O https://malbec1.bioconductor.org/BBS/3.10/bioc/src/contrib/trackViewer_1.22.1.tar.gz && rm -rf trackViewer.buildbin-libdir && mkdir trackViewer.buildbin-libdir && C:\Users\biocbuild\bbs-3.10-bioc\R\bin\R.exe CMD INSTALL --merge-multiarch --build --library=trackViewer.buildbin-libdir trackViewer_1.22.1.tar.gz && C:\Users\biocbuild\bbs-3.10-bioc\R\bin\R.exe CMD INSTALL trackViewer_1.22.1.zip && rm trackViewer_1.22.1.tar.gz trackViewer_1.22.1.zip | 
| StartedAt: 2020-04-14 20:19:47 -0400 (Tue, 14 Apr 2020) | 
| EndedAt: 2020-04-14 20:21:12 -0400 (Tue, 14 Apr 2020) | 
| EllapsedTime: 84.8 seconds | 
| RetCode: 0 | 
| Status: OK | 
##############################################################################
##############################################################################
###
### Running command:
###
###   C:\cygwin\bin\curl.exe -O https://malbec1.bioconductor.org/BBS/3.10/bioc/src/contrib/trackViewer_1.22.1.tar.gz && rm -rf trackViewer.buildbin-libdir && mkdir trackViewer.buildbin-libdir && C:\Users\biocbuild\bbs-3.10-bioc\R\bin\R.exe CMD INSTALL --merge-multiarch --build --library=trackViewer.buildbin-libdir trackViewer_1.22.1.tar.gz && C:\Users\biocbuild\bbs-3.10-bioc\R\bin\R.exe CMD INSTALL trackViewer_1.22.1.zip && rm trackViewer_1.22.1.tar.gz trackViewer_1.22.1.zip
###
##############################################################################
##############################################################################
  % Total    % Received % Xferd  Average Speed   Time    Time     Time  Current
                                 Dload  Upload   Total   Spent    Left  Speed
  0     0    0     0    0     0      0      0 --:--:-- --:--:-- --:--:--     0
  0  261k    0     0    0     0      0      0 --:--:-- --:--:-- --:--:--     0
100  261k  100  261k    0     0  1245k      0 --:--:-- --:--:-- --:--:-- 1265k
install for i386
* installing *source* package 'trackViewer' ...
** using staged installation
** R
** inst
** byte-compile and prepare package for lazy loading
** help
*** installing help indices
  converting help for package 'trackViewer'
    finding HTML links ... done
    GRoperator                              html  
    addArrowMark                            html  
    addGuideLine                            html  
    browseTracks-shiny                      html  
    browseTracks                            html  
    coverageGR                              html  
    dandelion.plot                          html  
    geneModelFromTxdb                       html  
    geneTrack                               html  
    getCurTrackViewport                     html  
    getLocation                             html  
    gieStain                                html  
    gridPlot                                html  
    ideogramPlot                            html  
    importBam                               html  
    importData                              html  
    importScore                             html  
    loadIdeogram                            html  
    lolliplot                               html  
    optimizeStyle                           html  
    parse2GRanges                           html  
    parseWIG                                html  
    plotGInteractions                       html  
    plotGRanges                             html  
    plotIdeo                                html  
    plotOneIdeo                             html  
    pos-class                               html  
    trackList-class                         html  
    trackStyle-class                        html  
    trackViewer-package                     html  
    trackViewerStyle-class                  html  
    viewGene                                html  
    viewTracks                              html  
    xscale-class                            html  
    yaxisStyle-class                        html  
** building package indices
** installing vignettes
** testing if installed package can be loaded from temporary location
** testing if installed package can be loaded from final location
** testing if installed package keeps a record of temporary installation path
install for x64
* installing *source* package 'trackViewer' ...
** testing if installed package can be loaded
* MD5 sums
packaged installation of 'trackViewer' as trackViewer_1.22.1.zip
* DONE (trackViewer)
* installing to library 'C:/Users/biocbuild/bbs-3.10-bioc/R/library'
package 'trackViewer' successfully unpacked and MD5 sums checked