| Back to Multiple platform build/check report for BioC 3.10 |
|
This page was generated on 2020-04-15 12:37:35 -0400 (Wed, 15 Apr 2020).
| Package 1715/1823 | Hostname | OS / Arch | INSTALL | BUILD | CHECK | BUILD BIN | ||||||
| ternarynet 1.30.0 Matthew N. McCall
| malbec1 | Linux (Ubuntu 18.04.4 LTS) / x86_64 | OK | OK | OK | |||||||
| tokay1 | Windows Server 2012 R2 Standard / x64 | OK | OK | OK | OK | |||||||
| merida1 | OS X 10.11.6 El Capitan / x86_64 | OK | OK | OK | [ OK ] |
| Package: ternarynet |
| Version: 1.30.0 |
| Command: rm -rf ternarynet.buildbin-libdir && mkdir ternarynet.buildbin-libdir && /Users/biocbuild/BBS/utils/build-universal.sh ternarynet_1.30.0.tar.gz /Library/Frameworks/R.framework/Versions/Current/Resources/bin/R ternarynet.buildbin-libdir |
| StartedAt: 2020-04-15 08:55:36 -0400 (Wed, 15 Apr 2020) |
| EndedAt: 2020-04-15 08:58:45 -0400 (Wed, 15 Apr 2020) |
| EllapsedTime: 188.4 seconds |
| RetCode: 0 |
| Status: OK |
| PackageFile: ternarynet_1.30.0.tgz |
| PackageFileSize: 349.5 KiB |
##############################################################################
##############################################################################
###
### Running command:
###
### rm -rf ternarynet.buildbin-libdir && mkdir ternarynet.buildbin-libdir && /Users/biocbuild/BBS/utils/build-universal.sh ternarynet_1.30.0.tar.gz /Library/Frameworks/R.framework/Versions/Current/Resources/bin/R ternarynet.buildbin-libdir
###
##############################################################################
##############################################################################
>>>>>>>
>>>>>>> INSTALLATION WITH 'R CMD INSTALL --preclean --no-multiarch --library=ternarynet.buildbin-libdir ternarynet_1.30.0.tar.gz'
>>>>>>>
* installing *source* package ‘ternarynet’ ...
** using staged installation
** libs
clang++ -std=gnu++11 -I"/Library/Frameworks/R.framework/Resources/include" -DNDEBUG -isysroot /Library/Developer/CommandLineTools/SDKs/MacOSX.sdk -I/usr/local/include -fPIC -Wall -g -O2 -c tnetfit.cc -o tnetfit.o
tnetfit.cc:73:39: warning: unused variable 'tempi' [-Wunused-variable]
int nOutcomes=3, l0, stage_count, tempi, jtrans, nTransition;
^
1 warning generated.
clang++ -std=gnu++11 -I"/Library/Frameworks/R.framework/Resources/include" -DNDEBUG -isysroot /Library/Developer/CommandLineTools/SDKs/MacOSX.sdk -I/usr/local/include -fPIC -Wall -g -O2 -c tnetfuncs.cc -o tnetfuncs.o
tnetfuncs.cc:435:5: warning: unused variable 'ipause' [-Wunused-variable]
int ipause;
^
tnetfuncs.cc:427:5: warning: unused variable 'tableWidth' [-Wunused-variable]
int tableWidth = powi(nOutcomes,maxDegree);
^
tnetfuncs.cc:521:16: warning: unused variable 'i' [-Wunused-variable]
int m1, m2, i;
^
tnetfuncs.cc:517:6: warning: unused variable 'ipause' [-Wunused-variable]
int ipause;
^
4 warnings generated.
clang++ -std=gnu++11 -I"/Library/Frameworks/R.framework/Resources/include" -DNDEBUG -isysroot /Library/Developer/CommandLineTools/SDKs/MacOSX.sdk -I/usr/local/include -fPIC -Wall -g -O2 -c tnetpost.cc -o tnetpost.o
tnetpost.cc:30:33: warning: unused variable 'jtrans' [-Wunused-variable]
int l0, stage_count, tempi, jtrans, nTransition;
^
tnetpost.cc:30:41: warning: unused variable 'nTransition' [-Wunused-variable]
int l0, stage_count, tempi, jtrans, nTransition;
^
tnetpost.cc:30:13: warning: unused variable 'stage_count' [-Wunused-variable]
int l0, stage_count, tempi, jtrans, nTransition;
^
tnetpost.cc:30:26: warning: unused variable 'tempi' [-Wunused-variable]
int l0, stage_count, tempi, jtrans, nTransition;
^
tnetpost.cc:30:9: warning: unused variable 'l0' [-Wunused-variable]
int l0, stage_count, tempi, jtrans, nTransition;
^
tnetpost.cc:28:42: warning: unused variable 'finalScore' [-Wunused-variable]
double newScore, oldScore, minScore, finalScore;
^
tnetpost.cc:27:9: warning: unused variable 'm0fit' [-Wunused-variable]
int m0fit;
^
tnetpost.cc:25:9: warning: unused variable 'ipause' [-Wunused-variable]
int ipause;
^
8 warnings generated.
clang++ -std=gnu++11 -dynamiclib -Wl,-headerpad_max_install_names -undefined dynamic_lookup -single_module -multiply_defined suppress -L/Library/Frameworks/R.framework/Resources/lib -L/usr/local/lib -o ternarynet.so tnetfit.o tnetfuncs.o tnetpost.o -F/Library/Frameworks/R.framework/.. -framework R -Wl,-framework -Wl,CoreFoundation
installing to /Users/biocbuild/bbs-3.10-bioc/meat/ternarynet.buildbin-libdir/00LOCK-ternarynet/00new/ternarynet/libs
** R
** inst
** byte-compile and prepare package for lazy loading
** help
*** installing help indices
** building package indices
** installing vignettes
** testing if installed package can be loaded from temporary location
** checking absolute paths in shared objects and dynamic libraries
** testing if installed package can be loaded from final location
** testing if installed package keeps a record of temporary installation path
* DONE (ternarynet)
>>>>>>>
>>>>>>> FIXING LINKS FOR ternarynet.buildbin-libdir/ternarynet/libs//ternarynet.so
>>>>>>>
install_name_tool -change "/usr/local/lib/libgcc_s.1.dylib" "/Library/Frameworks/R.framework/Versions/3.6/Resources/lib/libgcc_s.1.dylib" "ternarynet.buildbin-libdir/ternarynet/libs//ternarynet.so"
install_name_tool -change "/usr/local/lib/libgfortran.3.dylib" "/Library/Frameworks/R.framework/Versions/3.6/Resources/lib/libgfortran.3.dylib" "ternarynet.buildbin-libdir/ternarynet/libs//ternarynet.so"
install_name_tool -change "/usr/local/lib/libreadline.5.2.dylib" "/Library/Frameworks/R.framework/Versions/3.6/Resources/lib/libreadline.5.2.dylib" "ternarynet.buildbin-libdir/ternarynet/libs//ternarynet.so"
install_name_tool -change "/usr/local/lib/libreadline.dylib" "/Library/Frameworks/R.framework/Versions/3.6/Resources/lib/libreadline.dylib" "ternarynet.buildbin-libdir/ternarynet/libs//ternarynet.so"
install_name_tool -change "/usr/local/lib/libquadmath.0.dylib" "/Library/Frameworks/R.framework/Versions/3.6/Resources/lib/libquadmath.0.dylib" "ternarynet.buildbin-libdir/ternarynet/libs//ternarynet.so"