| Back to Multiple platform build/check report for BioC 3.10 | 
 | 
This page was generated on 2020-04-15 12:25:44 -0400 (Wed, 15 Apr 2020).
| Package 1683/1823 | Hostname | OS / Arch | INSTALL | BUILD | CHECK | BUILD BIN | ||||||
| subSeq 1.16.0 Andrew J. Bass 
 | malbec1 | Linux (Ubuntu 18.04.4 LTS) / x86_64 | OK | OK | OK |  | ||||||
| tokay1 | Windows Server 2012 R2 Standard / x64 | OK | OK | OK | [ OK ] |  | ||||||
| merida1 | OS X 10.11.6 El Capitan / x86_64 | OK | OK | OK | OK |  | 
| Package: subSeq | 
| Version: 1.16.0 | 
| Command: rm -rf subSeq.buildbin-libdir && mkdir subSeq.buildbin-libdir && C:\Users\biocbuild\bbs-3.10-bioc\R\bin\R.exe CMD INSTALL --merge-multiarch --build --library=subSeq.buildbin-libdir subSeq_1.16.0.tar.gz | 
| StartedAt: 2020-04-15 09:46:52 -0400 (Wed, 15 Apr 2020) | 
| EndedAt: 2020-04-15 09:47:30 -0400 (Wed, 15 Apr 2020) | 
| EllapsedTime: 38.1 seconds | 
| RetCode: 0 | 
| Status: OK | 
| PackageFile: subSeq_1.16.0.zip | 
| PackageFileSize: 2.947 MiB | 
##############################################################################
##############################################################################
###
### Running command:
###
###   rm -rf subSeq.buildbin-libdir && mkdir subSeq.buildbin-libdir && C:\Users\biocbuild\bbs-3.10-bioc\R\bin\R.exe CMD INSTALL --merge-multiarch --build --library=subSeq.buildbin-libdir subSeq_1.16.0.tar.gz
###
##############################################################################
##############################################################################
install for i386
* installing *source* package 'subSeq' ...
** using staged installation
** R
** data
** inst
** byte-compile and prepare package for lazy loading
** help
*** installing help indices
  converting help for package 'subSeq'
    finding HTML links ... done
    combineSubsamples                       html  
    generateSubsampledMatrix                html  
    getSeed                                 html  
    hammer                                  html  
    plot.subsamples                         html  
    plot.summary.subsamples                 html  
    ss                                      html  
    subsample                               html  
    summary.subsamples                      html  
** building package indices
** installing vignettes
** testing if installed package can be loaded from temporary location
** testing if installed package can be loaded from final location
** testing if installed package keeps a record of temporary installation path
install for x64
* installing *source* package 'subSeq' ...
** testing if installed package can be loaded
* MD5 sums
packaged installation of 'subSeq' as subSeq_1.16.0.zip
* DONE (subSeq)