| Back to Multiple platform build/check report for BioC 3.10 | 
 | 
This page was generated on 2020-04-15 12:17:07 -0400 (Wed, 15 Apr 2020).
| Package 1675/1823 | Hostname | OS / Arch | INSTALL | BUILD | CHECK | BUILD BIN | ||||||
| stepNorm 1.58.0 Yuanyuan Xiao 
 | malbec1 | Linux (Ubuntu 18.04.4 LTS) / x86_64 | OK | OK | OK |  | ||||||
| tokay1 | Windows Server 2012 R2 Standard / x64 | OK | OK | OK | [ OK ] |  | ||||||
| merida1 | OS X 10.11.6 El Capitan / x86_64 | OK | OK | OK | OK |  | 
| Package: stepNorm | 
| Version: 1.58.0 | 
| Command: rm -rf stepNorm.buildbin-libdir && mkdir stepNorm.buildbin-libdir && C:\Users\biocbuild\bbs-3.10-bioc\R\bin\R.exe CMD INSTALL --merge-multiarch --build --library=stepNorm.buildbin-libdir stepNorm_1.58.0.tar.gz | 
| StartedAt: 2020-04-15 09:46:25 -0400 (Wed, 15 Apr 2020) | 
| EndedAt: 2020-04-15 09:47:06 -0400 (Wed, 15 Apr 2020) | 
| EllapsedTime: 41.4 seconds | 
| RetCode: 0 | 
| Status: OK | 
| PackageFile: stepNorm_1.58.0.zip | 
| PackageFileSize: 568.9 KiB | 
##############################################################################
##############################################################################
###
### Running command:
###
###   rm -rf stepNorm.buildbin-libdir && mkdir stepNorm.buildbin-libdir && C:\Users\biocbuild\bbs-3.10-bioc\R\bin\R.exe CMD INSTALL --merge-multiarch --build --library=stepNorm.buildbin-libdir stepNorm_1.58.0.tar.gz
###
##############################################################################
##############################################################################
install for i386
* installing *source* package 'stepNorm' ...
** using staged installation
** R
** inst
** byte-compile and prepare package for lazy loading
** help
*** installing help indices
  converting help for package 'stepNorm'
    finding HTML links ... done
    calcAIC                                 html  
    calcBIC                                 html  
    fit2DWithin                             html  
    fitWithin                               html  
    maCompPlate2                            html  
    makeStepList                            html  
    marrayFitClass                          html  
    seqWithinNorm                           html  
    stepNorm-internal                       html  
    stepWithinNorm                          html  
    withinNorm                              html  
** building package indices
** testing if installed package can be loaded from temporary location
** testing if installed package can be loaded from final location
** testing if installed package keeps a record of temporary installation path
install for x64
* installing *source* package 'stepNorm' ...
** testing if installed package can be loaded
* MD5 sums
packaged installation of 'stepNorm' as stepNorm_1.58.0.zip
* DONE (stepNorm)