Back to Multiple platform build/check report for BioC 3.10 |
|
This page was generated on 2020-04-15 12:16:44 -0400 (Wed, 15 Apr 2020).
Package 1646/1823 | Hostname | OS / Arch | INSTALL | BUILD | CHECK | BUILD BIN | ||||||
splicegear 1.58.0 Laurent Gautier
| malbec1 | Linux (Ubuntu 18.04.4 LTS) / x86_64 | OK | OK | OK | ![]() | ||||||
tokay1 | Windows Server 2012 R2 Standard / x64 | [ OK ] | OK | OK | OK | ![]() | ||||||
merida1 | OS X 10.11.6 El Capitan / x86_64 | OK | OK | OK | OK | ![]() |
Package: splicegear |
Version: 1.58.0 |
Command: C:\cygwin\bin\curl.exe -O https://malbec1.bioconductor.org/BBS/3.10/bioc/src/contrib/splicegear_1.58.0.tar.gz && rm -rf splicegear.buildbin-libdir && mkdir splicegear.buildbin-libdir && C:\Users\biocbuild\bbs-3.10-bioc\R\bin\R.exe CMD INSTALL --merge-multiarch --build --library=splicegear.buildbin-libdir splicegear_1.58.0.tar.gz && C:\Users\biocbuild\bbs-3.10-bioc\R\bin\R.exe CMD INSTALL splicegear_1.58.0.zip && rm splicegear_1.58.0.tar.gz splicegear_1.58.0.zip |
StartedAt: 2020-04-14 18:48:08 -0400 (Tue, 14 Apr 2020) |
EndedAt: 2020-04-14 18:48:59 -0400 (Tue, 14 Apr 2020) |
EllapsedTime: 51.5 seconds |
RetCode: 0 |
Status: OK |
############################################################################## ############################################################################## ### ### Running command: ### ### C:\cygwin\bin\curl.exe -O https://malbec1.bioconductor.org/BBS/3.10/bioc/src/contrib/splicegear_1.58.0.tar.gz && rm -rf splicegear.buildbin-libdir && mkdir splicegear.buildbin-libdir && C:\Users\biocbuild\bbs-3.10-bioc\R\bin\R.exe CMD INSTALL --merge-multiarch --build --library=splicegear.buildbin-libdir splicegear_1.58.0.tar.gz && C:\Users\biocbuild\bbs-3.10-bioc\R\bin\R.exe CMD INSTALL splicegear_1.58.0.zip && rm splicegear_1.58.0.tar.gz splicegear_1.58.0.zip ### ############################################################################## ############################################################################## % Total % Received % Xferd Average Speed Time Time Time Current Dload Upload Total Spent Left Speed 0 0 0 0 0 0 0 0 --:--:-- --:--:-- --:--:-- 0 100 68458 100 68458 0 0 1270k 0 --:--:-- --:--:-- --:--:-- 1364k install for i386 * installing *source* package 'splicegear' ... ** using staged installation ** R ** data ** inst ** byte-compile and prepare package for lazy loading ** help *** installing help indices converting help for package 'splicegear' finding HTML links ... done Probes-class html SpliceExprSet-class html SpliceSites-class html SpliceSitesGenomic-class html as.data.frame.SpliceExprSet html barplot.SpliceSites html buildSpliceSites html getRelSignStrength html grid.helpers html grid.plot.SpliceSites html isProbeOnSpliceSite html matchprobes2Probes html plot.SpliceExprSet html plot.SpliceSites html plot.SpliceSitesGenomic html sort.SpliceExprSet html spliceset html split.SpliceSites html ** building package indices ** installing vignettes ** testing if installed package can be loaded from temporary location ** testing if installed package can be loaded from final location ** testing if installed package keeps a record of temporary installation path install for x64 * installing *source* package 'splicegear' ... ** testing if installed package can be loaded * MD5 sums packaged installation of 'splicegear' as splicegear_1.58.0.zip * DONE (splicegear) * installing to library 'C:/Users/biocbuild/bbs-3.10-bioc/R/library' package 'splicegear' successfully unpacked and MD5 sums checked