| Back to Multiple platform build/check report for BioC 3.10 | 
  | 
This page was generated on 2020-04-15 12:18:42 -0400 (Wed, 15 Apr 2020).
| Package 1644/1823 | Hostname | OS / Arch | INSTALL | BUILD | CHECK | BUILD BIN | ||||||
| spkTools 1.42.0 Matthew N McCall 
  | malbec1 | Linux (Ubuntu 18.04.4 LTS) / x86_64 | OK | OK | OK | |||||||
| tokay1 | Windows Server 2012 R2 Standard / x64 | OK | OK | OK | [ OK ] | |||||||
| merida1 | OS X 10.11.6 El Capitan / x86_64 | OK | OK | OK | OK | 
| Package: spkTools | 
| Version: 1.42.0 | 
| Command: rm -rf spkTools.buildbin-libdir && mkdir spkTools.buildbin-libdir && C:\Users\biocbuild\bbs-3.10-bioc\R\bin\R.exe CMD INSTALL --merge-multiarch --build --library=spkTools.buildbin-libdir spkTools_1.42.0.tar.gz | 
| StartedAt: 2020-04-15 09:44:38 -0400 (Wed, 15 Apr 2020) | 
| EndedAt: 2020-04-15 09:45:23 -0400 (Wed, 15 Apr 2020) | 
| EllapsedTime: 45.1 seconds | 
| RetCode: 0 | 
| Status: OK | 
| PackageFile: spkTools_1.42.0.zip | 
| PackageFileSize: 723.7 KiB | 
##############################################################################
##############################################################################
###
### Running command:
###
###   rm -rf spkTools.buildbin-libdir && mkdir spkTools.buildbin-libdir && C:\Users\biocbuild\bbs-3.10-bioc\R\bin\R.exe CMD INSTALL --merge-multiarch --build --library=spkTools.buildbin-libdir spkTools_1.42.0.tar.gz
###
##############################################################################
##############################################################################
install for i386
* installing *source* package 'spkTools' ...
** using staged installation
** R
** data
** inst
** byte-compile and prepare package for lazy loading
** help
*** installing help indices
  converting help for package 'spkTools'
    finding HTML links ... done
    SpikeInExpressSet-class                 html  
    affy                                    html  
    plotSpkBox                              html  
    spkAccSD                                html  
    spkAll                                  html  
    spkAnova                                html  
    spkBal                                  html  
    spkBox                                  html  
    spkDensity                              html  
    spkGNN                                  html  
    spkMA                                   html  
    spkPair                                 html  
    spkPairNS                               html  
    spkPot                                  html  
    spkQuantile                             html  
    spkSlope                                html  
    spkTools                                html  
    spkVar                                  html  
    summarySpkBox                           html  
** building package indices
** installing vignettes
** testing if installed package can be loaded from temporary location
** testing if installed package can be loaded from final location
** testing if installed package keeps a record of temporary installation path
install for x64
* installing *source* package 'spkTools' ...
** testing if installed package can be loaded
* MD5 sums
packaged installation of 'spkTools' as spkTools_1.42.0.zip
* DONE (spkTools)