| Back to Multiple platform build/check report for BioC 3.10 | 
 | 
This page was generated on 2020-04-15 12:41:05 -0400 (Wed, 15 Apr 2020).
| Package 1637/1823 | Hostname | OS / Arch | INSTALL | BUILD | CHECK | BUILD BIN | ||||||
| specL 1.20.0 Christian Panse 
 | malbec1 | Linux (Ubuntu 18.04.4 LTS) / x86_64 | OK | OK | OK |  | ||||||
| tokay1 | Windows Server 2012 R2 Standard / x64 | OK | OK | OK | OK |  | ||||||
| merida1 | OS X 10.11.6 El Capitan / x86_64 | OK | OK | [ OK ] | OK |  | 
| Package: specL | 
| Version: 1.20.0 | 
| Command: /Library/Frameworks/R.framework/Versions/Current/Resources/bin/R CMD check --install=check:specL.install-out.txt --library=/Library/Frameworks/R.framework/Versions/Current/Resources/library --no-vignettes --timings specL_1.20.0.tar.gz | 
| StartedAt: 2020-04-15 05:52:43 -0400 (Wed, 15 Apr 2020) | 
| EndedAt: 2020-04-15 05:53:38 -0400 (Wed, 15 Apr 2020) | 
| EllapsedTime: 55.6 seconds | 
| RetCode: 0 | 
| Status: OK | 
| CheckDir: specL.Rcheck | 
| Warnings: 0 | 
##############################################################################
##############################################################################
###
### Running command:
###
###   /Library/Frameworks/R.framework/Versions/Current/Resources/bin/R CMD check --install=check:specL.install-out.txt --library=/Library/Frameworks/R.framework/Versions/Current/Resources/library --no-vignettes --timings specL_1.20.0.tar.gz
###
##############################################################################
##############################################################################
* using log directory ‘/Users/biocbuild/bbs-3.10-bioc/meat/specL.Rcheck’
* using R version 3.6.3 (2020-02-29)
* using platform: x86_64-apple-darwin15.6.0 (64-bit)
* using session charset: UTF-8
* using option ‘--no-vignettes’
* checking for file ‘specL/DESCRIPTION’ ... OK
* checking extension type ... Package
* this is package ‘specL’ version ‘1.20.0’
* checking package namespace information ... OK
* checking package dependencies ... OK
* checking if this is a source package ... OK
* checking if there is a namespace ... OK
* checking for hidden files and directories ... OK
* checking for portable file names ... OK
* checking for sufficient/correct file permissions ... OK
* checking whether package ‘specL’ can be installed ... OK
* checking installed package size ... OK
* checking package directory ... OK
* checking ‘build’ directory ... OK
* checking DESCRIPTION meta-information ... OK
* checking top-level files ... OK
* checking for left-over files ... OK
* checking index information ... OK
* checking package subdirectories ... OK
* checking R files for non-ASCII characters ... OK
* checking R files for syntax errors ... OK
* checking whether the package can be loaded ... OK
* checking whether the package can be loaded with stated dependencies ... OK
* checking whether the package can be unloaded cleanly ... OK
* checking whether the namespace can be loaded with stated dependencies ... OK
* checking whether the namespace can be unloaded cleanly ... OK
* checking dependencies in R code ... OK
* checking S3 generic/method consistency ... NOTE
Found the following apparent S3 methods exported but not registered:
  merge.specLSet plot.psm plot.psmSet summary.psmSet
See section ‘Registering S3 methods’ in the ‘Writing R Extensions’
manual.
* checking replacement functions ... OK
* checking foreign function calls ... OK
* checking R code for possible problems ... NOTE
.retentiontimePlotFile : <anonymous>: no visible global function
  definition for ‘head’
summary,specLSet : <anonymous>: no visible binding for global variable
  ‘iRTpeptides’
Undefined global functions or variables:
  head iRTpeptides
Consider adding
  importFrom("utils", "head")
to your NAMESPACE file.
* checking Rd files ... OK
* checking Rd metadata ... OK
* checking Rd cross-references ... OK
* checking for missing documentation entries ... OK
* checking for code/documentation mismatches ... OK
* checking Rd \usage sections ... OK
* checking Rd contents ... OK
* checking for unstated dependencies in examples ... OK
* checking contents of ‘data’ directory ... OK
* checking data for non-ASCII characters ... OK
* checking data for ASCII and uncompressed saves ... OK
* checking sizes of PDF files under ‘inst/doc’ ... OK
* checking files in ‘vignettes’ ... OK
* checking examples ... OK
* checking for unstated dependencies in ‘tests’ ... OK
* checking tests ...
  Running ‘runTests.R’
 OK
* checking for unstated dependencies in vignettes ... OK
* checking package vignettes in ‘inst/doc’ ... OK
* checking running R code from vignettes ... SKIPPED
* checking re-building of vignette outputs ... SKIPPED
* checking PDF version of manual ... OK
* DONE
Status: 2 NOTEs
See
  ‘/Users/biocbuild/bbs-3.10-bioc/meat/specL.Rcheck/00check.log’
for details.
specL.Rcheck/00install.out
############################################################################## ############################################################################## ### ### Running command: ### ### /Library/Frameworks/R.framework/Versions/Current/Resources/bin/R CMD INSTALL specL ### ############################################################################## ############################################################################## * installing to library ‘/Library/Frameworks/R.framework/Versions/3.6/Resources/library’ * installing *source* package ‘specL’ ... ** using staged installation ** R ** data *** moving datasets to lazyload DB ** inst ** byte-compile and prepare package for lazy loading ** help *** installing help indices ** building package indices ** installing vignettes ** testing if installed package can be loaded from temporary location ** testing if installed package can be loaded from final location ** testing if installed package keeps a record of temporary installation path * DONE (specL)
specL.Rcheck/tests/runTests.Rout
R version 3.6.3 (2020-02-29) -- "Holding the Windsock"
Copyright (C) 2020 The R Foundation for Statistical Computing
Platform: x86_64-apple-darwin15.6.0 (64-bit)
R is free software and comes with ABSOLUTELY NO WARRANTY.
You are welcome to redistribute it under certain conditions.
Type 'license()' or 'licence()' for distribution details.
R is a collaborative project with many contributors.
Type 'contributors()' for more information and
'citation()' on how to cite R or R packages in publications.
Type 'demo()' for some demos, 'help()' for on-line help, or
'help.start()' for an HTML browser interface to help.
Type 'q()' to quit R.
> BiocGenerics:::testPackage("specL")
Attaching package: 'specL'
The following objects are masked from 'package:protViz':
    plot.psm, plot.psmSet, summary.psmSet
start protein annotation ...
time taken:  0.000309916337331136 minutes
start protein annotation ...
time taken:  0.00057366689046224 minutes
normalizing RT ...
found 7 iRT peptide(s) in s:\p1239\Proteomics\QEXACTIVE_3\ctrachse_20140910_Nuclei_diff_extraction_methods\20140910_01_fetuin_400amol_1.raw
found 7 iRT peptide(s) in s:\p1239\Proteomics\QEXACTIVE_3\ctrachse_20140910_Nuclei_diff_extraction_methods\20140910_07_fetuin_400amol_2.raw
building model ...
generating ion library ...
start generating specLSet object ...
length of findNN idx  137
length of genSwathIonLibSpecL   137
time taken:  0.43224310874939 secs
length of genSwathIonLibSpecL  after fragmentIonRange filtering 137
normalizing RT ...
found 7 iRT peptide(s) in s:\p1239\Proteomics\QEXACTIVE_3\ctrachse_20140910_Nuclei_diff_extraction_methods\20140910_01_fetuin_400amol_1.raw
found 7 iRT peptide(s) in s:\p1239\Proteomics\QEXACTIVE_3\ctrachse_20140910_Nuclei_diff_extraction_methods\20140910_07_fetuin_400amol_2.raw
building model ...
generating ion library ...
start generating specLSet object ...
length of findNN idx  137
length of genSwathIonLibSpecL   137
time taken:  0.440213918685913 secs
length of genSwathIonLibSpecL  after fragmentIonRange filtering 137
normalizing RT ...
found 7 iRT peptide(s) in s:\p1239\Proteomics\QEXACTIVE_3\ctrachse_20140910_Nuclei_diff_extraction_methods\20140910_01_fetuin_400amol_1.raw
found 7 iRT peptide(s) in s:\p1239\Proteomics\QEXACTIVE_3\ctrachse_20140910_Nuclei_diff_extraction_methods\20140910_07_fetuin_400amol_2.raw
building model ...
generating ion library ...
start generating specLSet object ...
length of findNN idx  137
length of genSwathIonLibSpecL   137
time taken:  0.352202892303467 secs
length of genSwathIonLibSpecL  after fragmentIonRange filtering 137
normalizing RT ...
no iRT peptides found for building the model.
=> no iRT regression applied, using orgiginal rt instead!
generating ion library ...
start generating specLSet object ...
length of findNN idx  137
length of genSwathIonLibSpecL   137
time taken:  0.437582015991211 secs
length of genSwathIonLibSpecL  after fragmentIonRange filtering 137
normalizing RT ...
found 7 iRT peptide(s) in s:\p1239\Proteomics\QEXACTIVE_3\ctrachse_20140910_Nuclei_diff_extraction_methods\20140910_01_fetuin_400amol_1.raw
found 7 iRT peptide(s) in s:\p1239\Proteomics\QEXACTIVE_3\ctrachse_20140910_Nuclei_diff_extraction_methods\20140910_07_fetuin_400amol_2.raw
building model ...
model with only one file.
generating ion library ...
start generating specLSet object ...
length of findNN idx  1
length of genSwathIonLibSpecL   1
time taken:  0.0125150680541992 secs
length of genSwathIonLibSpecL  after fragmentIonRange filtering 1
normalizing RT ...
found 7 iRT peptide(s) in s:\p1239\Proteomics\QEXACTIVE_3\ctrachse_20140910_Nuclei_diff_extraction_methods\20140910_01_fetuin_400amol_1.raw
found 7 iRT peptide(s) in s:\p1239\Proteomics\QEXACTIVE_3\ctrachse_20140910_Nuclei_diff_extraction_methods\20140910_07_fetuin_400amol_2.raw
building model ...
model with only one file.
generating ion library ...
start generating specLSet object ...
length of findNN idx  1
length of genSwathIonLibSpecL   1
time taken:  0.0149431228637695 secs
length of genSwathIonLibSpecL  after fragmentIonRange filtering 1
normalizing RT ...
found 7 iRT peptide(s) in s:\p1239\Proteomics\QEXACTIVE_3\ctrachse_20140910_Nuclei_diff_extraction_methods\20140910_01_fetuin_400amol_1.raw
found 7 iRT peptide(s) in s:\p1239\Proteomics\QEXACTIVE_3\ctrachse_20140910_Nuclei_diff_extraction_methods\20140910_07_fetuin_400amol_2.raw
building model ...
generating ion library ...
start generating specLSet object ...
length of findNN idx  137
length of genSwathIonLibSpecL   137
time taken:  0.311692953109741 secs
length of genSwathIonLibSpecL  after fragmentIonRange filtering 137
normalizing RT ...
no iRT peptides found for building the model.
=> no iRT regression applied, using orgiginal rt instead!
generating ion library ...
start generating specLSet object ...
length of findNN idx  137
length of genSwathIonLibSpecL   137
time taken:  0.396764993667603 secs
length of genSwathIonLibSpecL  after fragmentIonRange filtering 137
normalizing RT ...
found 7 iRT peptide(s) in s:\p1239\Proteomics\QEXACTIVE_3\ctrachse_20140910_Nuclei_diff_extraction_methods\20140910_01_fetuin_400amol_1.raw
found 7 iRT peptide(s) in s:\p1239\Proteomics\QEXACTIVE_3\ctrachse_20140910_Nuclei_diff_extraction_methods\20140910_07_fetuin_400amol_2.raw
building model ...
model with only one file.
generating ion library ...
start generating specLSet object ...
length of findNN idx  1
length of genSwathIonLibSpecL   1
time taken:  0.0141270160675049 secs
length of genSwathIonLibSpecL  after fragmentIonRange filtering 1
normalizing RT ...
found 7 iRT peptide(s) in s:\p1239\Proteomics\QEXACTIVE_3\ctrachse_20140910_Nuclei_diff_extraction_methods\20140910_01_fetuin_400amol_1.raw
found 7 iRT peptide(s) in s:\p1239\Proteomics\QEXACTIVE_3\ctrachse_20140910_Nuclei_diff_extraction_methods\20140910_07_fetuin_400amol_2.raw
building model ...
model with only one file.
generating ion library ...
start generating specLSet object ...
length of findNN idx  1
length of genSwathIonLibSpecL   1
time taken:  0.012876033782959 secs
length of genSwathIonLibSpecL  after fragmentIonRange filtering 1
normalizing RT ...
found 7 iRT peptide(s) in s:\p1239\Proteomics\QEXACTIVE_3\ctrachse_20140910_Nuclei_diff_extraction_methods\20140910_01_fetuin_400amol_1.raw
found 7 iRT peptide(s) in s:\p1239\Proteomics\QEXACTIVE_3\ctrachse_20140910_Nuclei_diff_extraction_methods\20140910_07_fetuin_400amol_2.raw
building model ...
generating ion library ...
start generating specLSet object ...
length of findNN idx  69
length of genSwathIonLibSpecL   69
time taken:  0.204394102096558 secs
length of genSwathIonLibSpecL  after fragmentIonRange filtering 69
normalizing RT ...
found 7 iRT peptide(s) in s:\p1239\Proteomics\QEXACTIVE_3\ctrachse_20140910_Nuclei_diff_extraction_methods\20140910_01_fetuin_400amol_1.raw
found 7 iRT peptide(s) in s:\p1239\Proteomics\QEXACTIVE_3\ctrachse_20140910_Nuclei_diff_extraction_methods\20140910_07_fetuin_400amol_2.raw
building model ...
generating ion library ...
start generating specLSet object ...
length of findNN idx  68
length of genSwathIonLibSpecL   68
time taken:  0.217491865158081 secs
length of genSwathIonLibSpecL  after fragmentIonRange filtering 68
normalizing RT ...
found 7 iRT peptide(s) in s:\p1239\Proteomics\QEXACTIVE_3\ctrachse_20140910_Nuclei_diff_extraction_methods\20140910_01_fetuin_400amol_1.raw
found 7 iRT peptide(s) in s:\p1239\Proteomics\QEXACTIVE_3\ctrachse_20140910_Nuclei_diff_extraction_methods\20140910_07_fetuin_400amol_2.raw
building model ...
generating ion library ...
start generating specLSet object ...
length of findNN idx  137
length of genSwathIonLibSpecL   137
time taken:  0.41356086730957 secs
length of genSwathIonLibSpecL  after fragmentIonRange filtering 137
normalizing RT ...
found 7 iRT peptide(s) in s:\p1239\Proteomics\QEXACTIVE_3\ctrachse_20140910_Nuclei_diff_extraction_methods\20140910_01_fetuin_400amol_1.raw
found 7 iRT peptide(s) in s:\p1239\Proteomics\QEXACTIVE_3\ctrachse_20140910_Nuclei_diff_extraction_methods\20140910_07_fetuin_400amol_2.raw
building model ...
generating ion library ...
start generating specLSet object ...
length of findNN idx  69
length of genSwathIonLibSpecL   69
time taken:  0.205888986587524 secs
length of genSwathIonLibSpecL  after fragmentIonRange filtering 69
normalizing RT ...
found 7 iRT peptide(s) in s:\p1239\Proteomics\QEXACTIVE_3\ctrachse_20140910_Nuclei_diff_extraction_methods\20140910_01_fetuin_400amol_1.raw
found 7 iRT peptide(s) in s:\p1239\Proteomics\QEXACTIVE_3\ctrachse_20140910_Nuclei_diff_extraction_methods\20140910_07_fetuin_400amol_2.raw
building model ...
generating ion library ...
start generating specLSet object ...
length of findNN idx  68
length of genSwathIonLibSpecL   68
time taken:  0.203333139419556 secs
length of genSwathIonLibSpecL  after fragmentIonRange filtering 68
normalizing RT ...
found 7 iRT peptide(s) in s:\p1239\Proteomics\QEXACTIVE_3\ctrachse_20140910_Nuclei_diff_extraction_methods\20140910_01_fetuin_400amol_1.raw
found 7 iRT peptide(s) in s:\p1239\Proteomics\QEXACTIVE_3\ctrachse_20140910_Nuclei_diff_extraction_methods\20140910_07_fetuin_400amol_2.raw
building model ...
generating ion library ...
start generating specLSet object ...
length of findNN idx  137
length of genSwathIonLibSpecL   137
time taken:  0.409089088439941 secs
length of genSwathIonLibSpecL  after fragmentIonRange filtering 137
fetched 137 rows.
assigning 28 modifications ...
fetched 184 rows.
assigning 37 modifications ...
normalizing RT ...
found 7 iRT peptide(s) in s:\p1239\Proteomics\QEXACTIVE_3\ctrachse_20140910_Nuclei_diff_extraction_methods\20140910_01_fetuin_400amol_1.raw
found 7 iRT peptide(s) in s:\p1239\Proteomics\QEXACTIVE_3\ctrachse_20140910_Nuclei_diff_extraction_methods\20140910_07_fetuin_400amol_2.raw
building model ...
generating ion library ...
start generating specLSet object ...
length of findNN idx  137
length of genSwathIonLibSpecL   137
time taken:  0.348081111907959 secs
length of genSwathIonLibSpecL  after fragmentIonRange filtering 137
fetched 137 rows.
assigning 28 modifications ...
fetched 184 rows.
assigning 37 modifications ...
normalizing RT ...
found 7 iRT peptide(s) in s:\p1239\Proteomics\QEXACTIVE_3\ctrachse_20140910_Nuclei_diff_extraction_methods\20140910_01_fetuin_400amol_1.raw
found 7 iRT peptide(s) in s:\p1239\Proteomics\QEXACTIVE_3\ctrachse_20140910_Nuclei_diff_extraction_methods\20140910_07_fetuin_400amol_2.raw
building model ...
generating ion library ...
start generating specLSet object ...
length of findNN idx  137
length of genSwathIonLibSpecL   137
time taken:  0.267624139785767 secs
length of genSwathIonLibSpecL  after fragmentIonRange filtering 137
RUNIT TEST PROTOCOL -- Wed Apr 15 05:53:33 2020 
*********************************************** 
Number of test functions: 9 
Number of errors: 0 
Number of failures: 0 
 
1 Test Suite : 
specL RUnit Tests - 9 test functions, 0 errors, 0 failures
Number of test functions: 9 
Number of errors: 0 
Number of failures: 0 
There were 13 warnings (use warnings() to see them)
> 
> 
> proc.time()
   user  system elapsed 
  8.175   0.282   8.525 
specL.Rcheck/specL-Ex.timings
| name | user | system | elapsed | |
| annotate.protein_id | 0.035 | 0.007 | 0.043 | |
| cdsw | 0.019 | 0.001 | 0.022 | |
| genSwathIonLib | 0.575 | 0.013 | 0.594 | |
| iRTpeptides | 0.005 | 0.001 | 0.005 | |
| peptideStd | 0.008 | 0.002 | 0.010 | |
| read.bibliospec | 0.003 | 0.000 | 0.003 | |
| specL-class | 0.002 | 0.000 | 0.004 | |
| specLSet-class | 0.003 | 0.001 | 0.003 | |