| Back to Multiple platform build/check report for BioC 3.10 |
|
This page was generated on 2020-04-15 12:33:00 -0400 (Wed, 15 Apr 2020).
| Package 1629/1823 | Hostname | OS / Arch | INSTALL | BUILD | CHECK | BUILD BIN | ||||||
| sojourner 1.0.2 Sojourner Developer
| malbec1 | Linux (Ubuntu 18.04.4 LTS) / x86_64 | OK | OK | OK | |||||||
| tokay1 | Windows Server 2012 R2 Standard / x64 | OK | OK | OK | [ OK ] | |||||||
| merida1 | OS X 10.11.6 El Capitan / x86_64 | OK | OK | OK | OK |
| Package: sojourner |
| Version: 1.0.2 |
| Command: rm -rf sojourner.buildbin-libdir && mkdir sojourner.buildbin-libdir && C:\Users\biocbuild\bbs-3.10-bioc\R\bin\R.exe CMD INSTALL --merge-multiarch --build --library=sojourner.buildbin-libdir sojourner_1.0.2.tar.gz |
| StartedAt: 2020-04-15 09:43:45 -0400 (Wed, 15 Apr 2020) |
| EndedAt: 2020-04-15 09:44:13 -0400 (Wed, 15 Apr 2020) |
| EllapsedTime: 27.9 seconds |
| RetCode: 0 |
| Status: OK |
| PackageFile: sojourner_1.0.2.zip |
| PackageFileSize: 2.99 MiB |
##############################################################################
##############################################################################
###
### Running command:
###
### rm -rf sojourner.buildbin-libdir && mkdir sojourner.buildbin-libdir && C:\Users\biocbuild\bbs-3.10-bioc\R\bin\R.exe CMD INSTALL --merge-multiarch --build --library=sojourner.buildbin-libdir sojourner_1.0.2.tar.gz
###
##############################################################################
##############################################################################
install for i386
* installing *source* package 'sojourner' ...
** using staged installation
** R
** inst
** byte-compile and prepare package for lazy loading
** help
*** installing help indices
converting help for package 'sojourner'
finding HTML links ... done
Dcoef-methods html
bootstrap-methods html
combineTrackll-methods html
compareFolder-methods html
compare_RT_CDF-methods html
createTrackll-methods html
densityMaskTracks-methods html
dispVariance-methods html
displacementCDF-methods html
dwellTime-methods html
exportTrackll-methods html
filterTrack-methods html
fitCDF-methods html
fitNormDistr-methods html
fitRT-methods html
getCI-methods html
hmmTrackll-methods html
linkSkippedFrames-methods html
maskTracks-methods html
mergeTracks-methods html
msd-methods html
plotIndividualTracks-methods html
plotLocalizations_Density-methods html
plotTrack-methods html
plotTrackOverlay_Dcoef-methods html
selComponentTracks-methods html
sojourner html
sojournerGUI-methods html
squareDisp-methods html
** building package indices
** installing vignettes
** testing if installed package can be loaded from temporary location
** testing if installed package can be loaded from final location
** testing if installed package keeps a record of temporary installation path
install for x64
* installing *source* package 'sojourner' ...
** testing if installed package can be loaded
* MD5 sums
packaged installation of 'sojourner' as sojourner_1.0.2.zip
* DONE (sojourner)