| Back to Multiple platform build/check report for BioC 3.10 |
|
This page was generated on 2020-04-15 12:47:39 -0400 (Wed, 15 Apr 2020).
| Package 1572/1823 | Hostname | OS / Arch | INSTALL | BUILD | CHECK | BUILD BIN | ||||||
| sesame 1.4.0 Wanding Zhou
| malbec1 | Linux (Ubuntu 18.04.4 LTS) / x86_64 | OK | OK | OK | |||||||
| tokay1 | Windows Server 2012 R2 Standard / x64 | OK | OK | OK | OK | |||||||
| merida1 | OS X 10.11.6 El Capitan / x86_64 | OK | [ OK ] | OK | OK |
| Package: sesame |
| Version: 1.4.0 |
| Command: /Library/Frameworks/R.framework/Versions/Current/Resources/bin/R CMD build --keep-empty-dirs --no-resave-data sesame |
| StartedAt: 2020-04-14 23:05:19 -0400 (Tue, 14 Apr 2020) |
| EndedAt: 2020-04-14 23:11:22 -0400 (Tue, 14 Apr 2020) |
| EllapsedTime: 362.5 seconds |
| RetCode: 0 |
| Status: OK |
| PackageFile: sesame_1.4.0.tar.gz |
| PackageFileSize: 2.28 MiB |
############################################################################## ############################################################################## ### ### Running command: ### ### /Library/Frameworks/R.framework/Versions/Current/Resources/bin/R CMD build --keep-empty-dirs --no-resave-data sesame ### ############################################################################## ############################################################################## * checking for file ‘sesame/DESCRIPTION’ ... OK * preparing ‘sesame’: * checking DESCRIPTION meta-information ... OK * installing the package to build vignettes * creating vignettes ... OK * checking for LF line-endings in source and make files and shell scripts * checking for empty or unneeded directories * building ‘sesame_1.4.0.tar.gz’