| Back to Multiple platform build/check report for BioC 3.10 | 
  | 
This page was generated on 2020-04-15 12:28:58 -0400 (Wed, 15 Apr 2020).
| Package 1563/1823 | Hostname | OS / Arch | INSTALL | BUILD | CHECK | BUILD BIN | ||||||
| seqcombo 1.8.0 Guangchuang Yu 
  | malbec1 | Linux (Ubuntu 18.04.4 LTS) / x86_64 | OK | OK | OK | |||||||
| tokay1 | Windows Server 2012 R2 Standard / x64 | OK | OK | OK | [ OK ] | |||||||
| merida1 | OS X 10.11.6 El Capitan / x86_64 | OK | OK | OK | OK | 
| Package: seqcombo | 
| Version: 1.8.0 | 
| Command: rm -rf seqcombo.buildbin-libdir && mkdir seqcombo.buildbin-libdir && C:\Users\biocbuild\bbs-3.10-bioc\R\bin\R.exe CMD INSTALL --merge-multiarch --build --library=seqcombo.buildbin-libdir seqcombo_1.8.0.tar.gz | 
| StartedAt: 2020-04-15 09:40:03 -0400 (Wed, 15 Apr 2020) | 
| EndedAt: 2020-04-15 09:40:27 -0400 (Wed, 15 Apr 2020) | 
| EllapsedTime: 24.6 seconds | 
| RetCode: 0 | 
| Status: OK | 
| PackageFile: seqcombo_1.8.0.zip | 
| PackageFileSize: 684.6 KiB | 
##############################################################################
##############################################################################
###
### Running command:
###
###   rm -rf seqcombo.buildbin-libdir && mkdir seqcombo.buildbin-libdir && C:\Users\biocbuild\bbs-3.10-bioc\R\bin\R.exe CMD INSTALL --merge-multiarch --build --library=seqcombo.buildbin-libdir seqcombo_1.8.0.tar.gz
###
##############################################################################
##############################################################################
install for i386
* installing *source* package 'seqcombo' ...
** using staged installation
** R
** inst
** byte-compile and prepare package for lazy loading
** help
*** installing help indices
  converting help for package 'seqcombo'
    finding HTML links ... done
    geom_genotype                           html  
    geom_hybrid                             html  
    hybrid_plot                             html  
    plot-methods                            html  
    reexports                               html  
    seqdiff                                 html  
    set_layout                              html  
    show-methods                            html  
    simplot                                 html  
** building package indices
** installing vignettes
** testing if installed package can be loaded from temporary location
** testing if installed package can be loaded from final location
** testing if installed package keeps a record of temporary installation path
install for x64
* installing *source* package 'seqcombo' ...
** testing if installed package can be loaded
* MD5 sums
packaged installation of 'seqcombo' as seqcombo_1.8.0.zip
* DONE (seqcombo)