| Back to Multiple platform build/check report for BioC 3.10 | 
 | 
This page was generated on 2020-04-15 12:26:09 -0400 (Wed, 15 Apr 2020).
| Package 1524/1823 | Hostname | OS / Arch | INSTALL | BUILD | CHECK | BUILD BIN | ||||||
| scater 1.14.6 Davis McCarthy 
 | malbec1 | Linux (Ubuntu 18.04.4 LTS) / x86_64 | OK | OK | WARNINGS |  | ||||||
| tokay1 | Windows Server 2012 R2 Standard / x64 | OK | [ TIMEOUT ] | skipped | skipped | |||||||
| merida1 | OS X 10.11.6 El Capitan / x86_64 | OK | OK | WARNINGS | OK |  | 
| Package: scater | 
| Version: 1.14.6 | 
| Command: chmod a+r scater -R && C:\Users\biocbuild\bbs-3.10-bioc\R\bin\R.exe CMD build --keep-empty-dirs --no-resave-data scater | 
| StartedAt: 2020-04-14 22:47:01 -0400 (Tue, 14 Apr 2020) | 
| EndedAt: 2020-04-14 23:27:01 -0400 (Tue, 14 Apr 2020) | 
| EllapsedTime: 2400.5 seconds | 
| RetCode: None | 
| Status: TIMEOUT | 
| PackageFile: None | 
| PackageFileSize: NA | 
############################################################################## ############################################################################## ### ### Running command: ### ### chmod a+r scater -R && C:\Users\biocbuild\bbs-3.10-bioc\R\bin\R.exe CMD build --keep-empty-dirs --no-resave-data scater ### ############################################################################## ############################################################################## * checking for file 'scater/DESCRIPTION' ... OK * preparing 'scater': * checking DESCRIPTION meta-information ... OK * cleaning src * installing the package to build vignettes * creating vignettes ...