| Back to Multiple platform build/check report for BioC 3.10 | 
  | 
This page was generated on 2020-04-15 12:32:19 -0400 (Wed, 15 Apr 2020).
| Package 1546/1823 | Hostname | OS / Arch | INSTALL | BUILD | CHECK | BUILD BIN | ||||||
| scRecover 1.2.0 Zhun Miao 
  | malbec1 | Linux (Ubuntu 18.04.4 LTS) / x86_64 | OK | OK | OK | |||||||
| tokay1 | Windows Server 2012 R2 Standard / x64 | OK | OK | OK | [ OK ] | |||||||
| merida1 | OS X 10.11.6 El Capitan / x86_64 | OK | OK | OK | OK | 
| Package: scRecover | 
| Version: 1.2.0 | 
| Command: rm -rf scRecover.buildbin-libdir && mkdir scRecover.buildbin-libdir && C:\Users\biocbuild\bbs-3.10-bioc\R\bin\R.exe CMD INSTALL --merge-multiarch --build --library=scRecover.buildbin-libdir scRecover_1.2.0.tar.gz | 
| StartedAt: 2020-04-15 09:39:08 -0400 (Wed, 15 Apr 2020) | 
| EndedAt: 2020-04-15 09:39:26 -0400 (Wed, 15 Apr 2020) | 
| EllapsedTime: 18.6 seconds | 
| RetCode: 0 | 
| Status: OK | 
| PackageFile: scRecover_1.2.0.zip | 
| PackageFileSize: 1.165 MiB | 
##############################################################################
##############################################################################
###
### Running command:
###
###   rm -rf scRecover.buildbin-libdir && mkdir scRecover.buildbin-libdir && C:\Users\biocbuild\bbs-3.10-bioc\R\bin\R.exe CMD INSTALL --merge-multiarch --build --library=scRecover.buildbin-libdir scRecover_1.2.0.tar.gz
###
##############################################################################
##############################################################################
install for i386
* installing *source* package 'scRecover' ...
** using staged installation
** R
** data
** inst
** byte-compile and prepare package for lazy loading
** help
*** installing help indices
  converting help for package 'scRecover'
    finding HTML links ... done
    countsSampling                          html  
    estDropoutNum                           html  
    normalization                           html  
    scRecover                               html  
    finding level-2 HTML links ... done
    scRecoverTest                           html  
** building package indices
** installing vignettes
** testing if installed package can be loaded from temporary location
** testing if installed package can be loaded from final location
** testing if installed package keeps a record of temporary installation path
install for x64
* installing *source* package 'scRecover' ...
** testing if installed package can be loaded
* MD5 sums
packaged installation of 'scRecover' as scRecover_1.2.0.zip
* DONE (scRecover)