| Back to Multiple platform build/check report for BioC 3.10 |
|
This page was generated on 2020-04-15 12:33:31 -0400 (Wed, 15 Apr 2020).
| Package 1543/1823 | Hostname | OS / Arch | INSTALL | BUILD | CHECK | BUILD BIN | ||||||
| scPCA 1.0.0 Philippe Boileau
| malbec1 | Linux (Ubuntu 18.04.4 LTS) / x86_64 | OK | OK | OK | |||||||
| tokay1 | Windows Server 2012 R2 Standard / x64 | OK | [ OK ] | OK | OK | |||||||
| merida1 | OS X 10.11.6 El Capitan / x86_64 | OK | OK | OK | OK |
| Package: scPCA |
| Version: 1.0.0 |
| Command: chmod a+r scPCA -R && C:\Users\biocbuild\bbs-3.10-bioc\R\bin\R.exe CMD build --keep-empty-dirs --no-resave-data scPCA |
| StartedAt: 2020-04-15 00:53:59 -0400 (Wed, 15 Apr 2020) |
| EndedAt: 2020-04-15 00:56:04 -0400 (Wed, 15 Apr 2020) |
| EllapsedTime: 125.4 seconds |
| RetCode: 0 |
| Status: OK |
| PackageFile: scPCA_1.0.0.tar.gz |
| PackageFileSize: 755.6 KiB |
############################################################################## ############################################################################## ### ### Running command: ### ### chmod a+r scPCA -R && C:\Users\biocbuild\bbs-3.10-bioc\R\bin\R.exe CMD build --keep-empty-dirs --no-resave-data scPCA ### ############################################################################## ############################################################################## * checking for file 'scPCA/DESCRIPTION' ... OK * preparing 'scPCA': * checking DESCRIPTION meta-information ... OK * installing the package to process help pages Loading required namespace: scPCA * saving partial Rd database * creating vignettes ... OK * checking for LF line-endings in source and make files and shell scripts * checking for empty or unneeded directories * looking to see if a 'data/datalist' file should be added * building 'scPCA_1.0.0.tar.gz'