| Back to Multiple platform build/check report for BioC 3.10 |
|
This page was generated on 2020-04-15 12:22:31 -0400 (Wed, 15 Apr 2020).
| Package 1516/1823 | Hostname | OS / Arch | INSTALL | BUILD | CHECK | BUILD BIN | ||||||
| savR 1.24.0 R. Brent Calder
| malbec1 | Linux (Ubuntu 18.04.4 LTS) / x86_64 | OK | OK | OK | |||||||
| tokay1 | Windows Server 2012 R2 Standard / x64 | OK | OK | OK | [ OK ] | |||||||
| merida1 | OS X 10.11.6 El Capitan / x86_64 | OK | OK | OK | OK |
| Package: savR |
| Version: 1.24.0 |
| Command: rm -rf savR.buildbin-libdir && mkdir savR.buildbin-libdir && C:\Users\biocbuild\bbs-3.10-bioc\R\bin\R.exe CMD INSTALL --merge-multiarch --build --library=savR.buildbin-libdir savR_1.24.0.tar.gz |
| StartedAt: 2020-04-15 09:37:30 -0400 (Wed, 15 Apr 2020) |
| EndedAt: 2020-04-15 09:38:05 -0400 (Wed, 15 Apr 2020) |
| EllapsedTime: 34.7 seconds |
| RetCode: 0 |
| Status: OK |
| PackageFile: savR_1.24.0.zip |
| PackageFileSize: 699.4 KiB |
##############################################################################
##############################################################################
###
### Running command:
###
### rm -rf savR.buildbin-libdir && mkdir savR.buildbin-libdir && C:\Users\biocbuild\bbs-3.10-bioc\R\bin\R.exe CMD INSTALL --merge-multiarch --build --library=savR.buildbin-libdir savR_1.24.0.tar.gz
###
##############################################################################
##############################################################################
install for i386
* installing *source* package 'savR' ...
** using staged installation
** R
** inst
** byte-compile and prepare package for lazy loading
** help
*** installing help indices
converting help for package 'savR'
finding HTML links ... done
buildReports html
clusterQualityGtN html
clusters html
correctedIntensities html
cycles html
directions html
errorMetrics html
extractionMetrics html
flowcellLayout html
illuminaFlowCellLayout-class html
illuminaRead-class html
location html
pfBoxplot html
pfClusters html
plotFWHM html
plotIntensity html
plotQGT30 html
qualityHeatmap html
qualityMetrics html
reads html
run html
savCorrectedIntensityFormat-class html
savData-class html
savErrorFormat-class html
savExtractionFormat-class html
savFormat-class html
savProject-class html
savQualityFormat-class html
savQualityFormatV5-class html
savR-package html
savR html
savTileFormat-class html
tileMetrics html
** building package indices
** installing vignettes
** testing if installed package can be loaded from temporary location
** testing if installed package can be loaded from final location
** testing if installed package keeps a record of temporary installation path
install for x64
* installing *source* package 'savR' ...
** testing if installed package can be loaded
* MD5 sums
packaged installation of 'savR' as savR_1.24.0.zip
* DONE (savR)