| Back to Multiple platform build/check report for BioC 3.10 |
|
This page was generated on 2020-04-15 12:35:15 -0400 (Wed, 15 Apr 2020).
| Package 1482/1823 | Hostname | OS / Arch | INSTALL | BUILD | CHECK | BUILD BIN | ||||||
| rsbml 2.44.0 Michael Lawrence
| malbec1 | Linux (Ubuntu 18.04.4 LTS) / x86_64 | OK | OK | WARNINGS | |||||||
| tokay1 | Windows Server 2012 R2 Standard / x64 | OK | OK | WARNINGS | OK | |||||||
| merida1 | OS X 10.11.6 El Capitan / x86_64 | OK | [ OK ] | WARNINGS | OK |
| Package: rsbml |
| Version: 2.44.0 |
| Command: /Library/Frameworks/R.framework/Versions/Current/Resources/bin/R CMD build --keep-empty-dirs --no-resave-data rsbml |
| StartedAt: 2020-04-14 19:59:06 -0400 (Tue, 14 Apr 2020) |
| EndedAt: 2020-04-14 19:59:33 -0400 (Tue, 14 Apr 2020) |
| EllapsedTime: 27.1 seconds |
| RetCode: 0 |
| Status: OK |
| PackageFile: rsbml_2.44.0.tar.gz |
| PackageFileSize: 559.7 KiB |
############################################################################## ############################################################################## ### ### Running command: ### ### /Library/Frameworks/R.framework/Versions/Current/Resources/bin/R CMD build --keep-empty-dirs --no-resave-data rsbml ### ############################################################################## ############################################################################## * checking for file ‘rsbml/DESCRIPTION’ ... OK * preparing ‘rsbml’: * checking DESCRIPTION meta-information ... OK * cleaning src * installing the package to build vignettes * creating vignettes ... OK * cleaning src * checking for LF line-endings in source and make files and shell scripts * checking for empty or unneeded directories * building ‘rsbml_2.44.0.tar.gz’