| Back to Multiple platform build/check report for BioC 3.10 |
|
This page was generated on 2020-04-15 12:39:16 -0400 (Wed, 15 Apr 2020).
| Package 1498/1823 | Hostname | OS / Arch | INSTALL | BUILD | CHECK | BUILD BIN | ||||||
| rTRMui 1.24.0 Diego Diez
| malbec1 | Linux (Ubuntu 18.04.4 LTS) / x86_64 | OK | OK | OK | |||||||
| tokay1 | Windows Server 2012 R2 Standard / x64 | OK | OK | OK | OK | |||||||
| merida1 | OS X 10.11.6 El Capitan / x86_64 | OK | OK | OK | [ OK ] |
| Package: rTRMui |
| Version: 1.24.0 |
| Command: rm -rf rTRMui.buildbin-libdir && mkdir rTRMui.buildbin-libdir && /Users/biocbuild/BBS/utils/build-universal.sh rTRMui_1.24.0.tar.gz /Library/Frameworks/R.framework/Versions/Current/Resources/bin/R rTRMui.buildbin-libdir |
| StartedAt: 2020-04-15 08:38:42 -0400 (Wed, 15 Apr 2020) |
| EndedAt: 2020-04-15 08:39:36 -0400 (Wed, 15 Apr 2020) |
| EllapsedTime: 53.7 seconds |
| RetCode: 0 |
| Status: OK |
| PackageFile: rTRMui_1.24.0.tgz |
| PackageFileSize: 788.2 KiB |
##############################################################################
##############################################################################
###
### Running command:
###
### rm -rf rTRMui.buildbin-libdir && mkdir rTRMui.buildbin-libdir && /Users/biocbuild/BBS/utils/build-universal.sh rTRMui_1.24.0.tar.gz /Library/Frameworks/R.framework/Versions/Current/Resources/bin/R rTRMui.buildbin-libdir
###
##############################################################################
##############################################################################
>>>>>>>
>>>>>>> INSTALLATION WITH 'R CMD INSTALL --preclean --no-multiarch --library=rTRMui.buildbin-libdir rTRMui_1.24.0.tar.gz'
>>>>>>>
* installing *source* package ‘rTRMui’ ...
** using staged installation
** R
** inst
** byte-compile and prepare package for lazy loading
See system.file("LICENSE", package="MotifDb") for use restrictions.
** help
*** installing help indices
** building package indices
** installing vignettes
** testing if installed package can be loaded from temporary location
See system.file("LICENSE", package="MotifDb") for use restrictions.
** testing if installed package can be loaded from final location
See system.file("LICENSE", package="MotifDb") for use restrictions.
** testing if installed package keeps a record of temporary installation path
* DONE (rTRMui)