| Back to Multiple platform build/check report for BioC 3.10 |
|
This page was generated on 2020-04-15 12:24:25 -0400 (Wed, 15 Apr 2020).
| Package 1425/1823 | Hostname | OS / Arch | INSTALL | BUILD | CHECK | BUILD BIN | ||||||
| rGREAT 1.18.0 Zuguang Gu
| malbec1 | Linux (Ubuntu 18.04.4 LTS) / x86_64 | OK | OK | OK | |||||||
| tokay1 | Windows Server 2012 R2 Standard / x64 | OK | OK | OK | [ OK ] | |||||||
| merida1 | OS X 10.11.6 El Capitan / x86_64 | OK | OK | OK | OK |
| Package: rGREAT |
| Version: 1.18.0 |
| Command: rm -rf rGREAT.buildbin-libdir && mkdir rGREAT.buildbin-libdir && C:\Users\biocbuild\bbs-3.10-bioc\R\bin\R.exe CMD INSTALL --merge-multiarch --build --library=rGREAT.buildbin-libdir rGREAT_1.18.0.tar.gz |
| StartedAt: 2020-04-15 09:32:16 -0400 (Wed, 15 Apr 2020) |
| EndedAt: 2020-04-15 09:32:55 -0400 (Wed, 15 Apr 2020) |
| EllapsedTime: 39.2 seconds |
| RetCode: 0 |
| Status: OK |
| PackageFile: rGREAT_1.18.0.zip |
| PackageFileSize: 994.5 KiB |
##############################################################################
##############################################################################
###
### Running command:
###
### rm -rf rGREAT.buildbin-libdir && mkdir rGREAT.buildbin-libdir && C:\Users\biocbuild\bbs-3.10-bioc\R\bin\R.exe CMD INSTALL --merge-multiarch --build --library=rGREAT.buildbin-libdir rGREAT_1.18.0.tar.gz
###
##############################################################################
##############################################################################
install for i386
* installing *source* package 'rGREAT' ...
** using staged installation
** R
** inst
** byte-compile and prepare package for lazy loading
** help
*** installing help indices
converting help for package 'rGREAT'
finding HTML links ... done
GreatJob-class html
GreatJob html
availableCategories-GreatJob-method html
availableOntologies-GreatJob-method html
getEnrichmentTables-GreatJob-method html
plotRegionGeneAssociationGraphs-GreatJob-method
html
submitGreatJob html
** building package indices
** installing vignettes
** testing if installed package can be loaded from temporary location
** testing if installed package can be loaded from final location
** testing if installed package keeps a record of temporary installation path
install for x64
* installing *source* package 'rGREAT' ...
** testing if installed package can be loaded
* MD5 sums
packaged installation of 'rGREAT' as rGREAT_1.18.0.zip
* DONE (rGREAT)