| Back to Multiple platform build/check report for BioC 3.10 | 
 | 
This page was generated on 2020-04-15 12:32:06 -0400 (Wed, 15 Apr 2020).
| Package 1345/1823 | Hostname | OS / Arch | INSTALL | BUILD | CHECK | BUILD BIN | ||||||
| qsmooth 1.2.0 Stephanie C. Hicks 
 | malbec1 | Linux (Ubuntu 18.04.4 LTS) / x86_64 | OK | OK | OK |  | ||||||
| tokay1 | Windows Server 2012 R2 Standard / x64 | OK | OK | OK | [ OK ] |  | ||||||
| merida1 | OS X 10.11.6 El Capitan / x86_64 | OK | OK | OK | OK |  | 
| Package: qsmooth | 
| Version: 1.2.0 | 
| Command: rm -rf qsmooth.buildbin-libdir && mkdir qsmooth.buildbin-libdir && C:\Users\biocbuild\bbs-3.10-bioc\R\bin\R.exe CMD INSTALL --merge-multiarch --build --library=qsmooth.buildbin-libdir qsmooth_1.2.0.tar.gz | 
| StartedAt: 2020-04-15 09:27:48 -0400 (Wed, 15 Apr 2020) | 
| EndedAt: 2020-04-15 09:28:16 -0400 (Wed, 15 Apr 2020) | 
| EllapsedTime: 27.9 seconds | 
| RetCode: 0 | 
| Status: OK | 
| PackageFile: qsmooth_1.2.0.zip | 
| PackageFileSize: 587.2 KiB | 
##############################################################################
##############################################################################
###
### Running command:
###
###   rm -rf qsmooth.buildbin-libdir && mkdir qsmooth.buildbin-libdir && C:\Users\biocbuild\bbs-3.10-bioc\R\bin\R.exe CMD INSTALL --merge-multiarch --build --library=qsmooth.buildbin-libdir qsmooth_1.2.0.tar.gz
###
##############################################################################
##############################################################################
install for i386
* installing *source* package 'qsmooth' ...
** using staged installation
** R
** inst
** byte-compile and prepare package for lazy loading
** help
*** installing help indices
  converting help for package 'qsmooth'
    finding HTML links ... done
    qsmooth-class                           html  
    qsmooth                                 html  
    qsmoothData                             html  
    qsmoothPlotWeights                      html  
    qsmoothWeights                          html  
    qstats                                  html  
** building package indices
** installing vignettes
** testing if installed package can be loaded from temporary location
** testing if installed package can be loaded from final location
** testing if installed package keeps a record of temporary installation path
install for x64
* installing *source* package 'qsmooth' ...
** testing if installed package can be loaded
* MD5 sums
packaged installation of 'qsmooth' as qsmooth_1.2.0.zip
* DONE (qsmooth)