| Back to Multiple platform build/check report for BioC 3.10 |
|
This page was generated on 2020-04-15 12:32:05 -0400 (Wed, 15 Apr 2020).
| Package 1312/1823 | Hostname | OS / Arch | INSTALL | BUILD | CHECK | BUILD BIN | ||||||
| projectR 1.2.0 Genevieve Stein-O'Brien
| malbec1 | Linux (Ubuntu 18.04.4 LTS) / x86_64 | OK | OK | WARNINGS | |||||||
| tokay1 | Windows Server 2012 R2 Standard / x64 | OK | OK | WARNINGS | [ OK ] | |||||||
| merida1 | OS X 10.11.6 El Capitan / x86_64 | OK | OK | WARNINGS | OK |
| Package: projectR |
| Version: 1.2.0 |
| Command: rm -rf projectR.buildbin-libdir && mkdir projectR.buildbin-libdir && C:\Users\biocbuild\bbs-3.10-bioc\R\bin\R.exe CMD INSTALL --merge-multiarch --build --library=projectR.buildbin-libdir projectR_1.2.0.tar.gz |
| StartedAt: 2020-04-15 09:25:43 -0400 (Wed, 15 Apr 2020) |
| EndedAt: 2020-04-15 09:26:36 -0400 (Wed, 15 Apr 2020) |
| EllapsedTime: 53.8 seconds |
| RetCode: 0 |
| Status: OK |
| PackageFile: projectR_1.2.0.zip |
| PackageFileSize: 1.003 MiB |
##############################################################################
##############################################################################
###
### Running command:
###
### rm -rf projectR.buildbin-libdir && mkdir projectR.buildbin-libdir && C:\Users\biocbuild\bbs-3.10-bioc\R\bin\R.exe CMD INSTALL --merge-multiarch --build --library=projectR.buildbin-libdir projectR_1.2.0.tar.gz
###
##############################################################################
##############################################################################
install for i386
* installing *source* package 'projectR' ...
** using staged installation
** R
** data
*** moving datasets to lazyload DB
** inst
** byte-compile and prepare package for lazy loading
** help
*** installing help indices
converting help for package 'projectR'
finding HTML links ... done
AP.RNAseq6l3c3t html
auc_mat html
cluster2pattern-methods html
clusterPlotR-methods html
correlateR-class html
correlateR html
geneMatchR html
initialize-correlateR-method html
initialize-rotatoR-method html
intersectoR-methods html
map.ESepiGen4c1l html
map.RNAseq6l3c3t html
p.ESepiGen4c1l html
p.RNAseq6l3c3t html
pd.ESepiGen4c1l html
pd.RNAseq6l3c3t html
projectR-methods html
rotatoR-class html
rotatoR html
** building package indices
** installing vignettes
** testing if installed package can be loaded from temporary location
** testing if installed package can be loaded from final location
** testing if installed package keeps a record of temporary installation path
install for x64
* installing *source* package 'projectR' ...
** testing if installed package can be loaded
* MD5 sums
packaged installation of 'projectR' as projectR_1.2.0.zip
* DONE (projectR)