| Back to Multiple platform build/check report for BioC 3.10 |
|
This page was generated on 2020-04-15 12:25:51 -0400 (Wed, 15 Apr 2020).
| Package 1310/1823 | Hostname | OS / Arch | INSTALL | BUILD | CHECK | BUILD BIN | ||||||
| profileScoreDist 1.14.0 Paal O. Westermark
| malbec1 | Linux (Ubuntu 18.04.4 LTS) / x86_64 | OK | OK | OK | |||||||
| tokay1 | Windows Server 2012 R2 Standard / x64 | [ OK ] | OK | OK | OK | |||||||
| merida1 | OS X 10.11.6 El Capitan / x86_64 | OK | OK | OK | OK |
| Package: profileScoreDist |
| Version: 1.14.0 |
| Command: C:\cygwin\bin\curl.exe -O https://malbec1.bioconductor.org/BBS/3.10/bioc/src/contrib/profileScoreDist_1.14.0.tar.gz && rm -rf profileScoreDist.buildbin-libdir && mkdir profileScoreDist.buildbin-libdir && C:\Users\biocbuild\bbs-3.10-bioc\R\bin\R.exe CMD INSTALL --merge-multiarch --build --library=profileScoreDist.buildbin-libdir profileScoreDist_1.14.0.tar.gz && C:\Users\biocbuild\bbs-3.10-bioc\R\bin\R.exe CMD INSTALL profileScoreDist_1.14.0.zip && rm profileScoreDist_1.14.0.tar.gz profileScoreDist_1.14.0.zip |
| StartedAt: 2020-04-14 18:34:19 -0400 (Tue, 14 Apr 2020) |
| EndedAt: 2020-04-14 18:35:26 -0400 (Tue, 14 Apr 2020) |
| EllapsedTime: 67.7 seconds |
| RetCode: 0 |
| Status: OK |
##############################################################################
##############################################################################
###
### Running command:
###
### C:\cygwin\bin\curl.exe -O https://malbec1.bioconductor.org/BBS/3.10/bioc/src/contrib/profileScoreDist_1.14.0.tar.gz && rm -rf profileScoreDist.buildbin-libdir && mkdir profileScoreDist.buildbin-libdir && C:\Users\biocbuild\bbs-3.10-bioc\R\bin\R.exe CMD INSTALL --merge-multiarch --build --library=profileScoreDist.buildbin-libdir profileScoreDist_1.14.0.tar.gz && C:\Users\biocbuild\bbs-3.10-bioc\R\bin\R.exe CMD INSTALL profileScoreDist_1.14.0.zip && rm profileScoreDist_1.14.0.tar.gz profileScoreDist_1.14.0.zip
###
##############################################################################
##############################################################################
% Total % Received % Xferd Average Speed Time Time Time Current
Dload Upload Total Spent Left Speed
0 0 0 0 0 0 0 0 --:--:-- --:--:-- --:--:-- 0
100 11760 100 11760 0 0 243k 0 --:--:-- --:--:-- --:--:-- 267k
install for i386
* installing *source* package 'profileScoreDist' ...
** using staged installation
** libs
C:/Rtools/mingw_32/bin/g++ -std=gnu++11 -I"C:/Users/BIOCBU~1/BBS-3~1.10-/R/include" -DNDEBUG -I"C:/Users/biocbuild/bbs-3.10-bioc/R/library/Rcpp/include" -I"C:/extsoft/include" -O2 -Wall -mtune=core2 -c RcppExports.cpp -o RcppExports.o
C:/Rtools/mingw_32/bin/g++ -std=gnu++11 -I"C:/Users/BIOCBU~1/BBS-3~1.10-/R/include" -DNDEBUG -I"C:/Users/biocbuild/bbs-3.10-bioc/R/library/Rcpp/include" -I"C:/extsoft/include" -O2 -Wall -mtune=core2 -c profileConvolution.cpp -o profileConvolution.o
C:/Rtools/mingw_32/bin/g++ -std=gnu++11 -I"C:/Users/BIOCBU~1/BBS-3~1.10-/R/include" -DNDEBUG -I"C:/Users/biocbuild/bbs-3.10-bioc/R/library/Rcpp/include" -I"C:/extsoft/include" -O2 -Wall -mtune=core2 -c profilePosscoreprob.cpp -o profilePosscoreprob.o
C:/Rtools/mingw_32/bin/g++ -std=gnu++11 -shared -s -static-libgcc -o profileScoreDist.dll tmp.def RcppExports.o profileConvolution.o profilePosscoreprob.o -LC:/extsoft/lib/i386 -LC:/extsoft/lib -LC:/Users/BIOCBU~1/BBS-3~1.10-/R/bin/i386 -lR
installing to C:/Users/biocbuild/bbs-3.10-bioc/meat/profileScoreDist.buildbin-libdir/00LOCK-profileScoreDist/00new/profileScoreDist/libs/i386
** R
** data
*** moving datasets to lazyload DB
** inst
** byte-compile and prepare package for lazy loading
** help
*** installing help indices
converting help for package 'profileScoreDist'
finding HTML links ... done
INR html
ProfileDist-class html
backgroundDist html
computeScoreDist html
plotDist html
regularizeMatrix html
scoreDistCutoffs html
signalDist html
** building package indices
** installing vignettes
** testing if installed package can be loaded from temporary location
** testing if installed package can be loaded from final location
** testing if installed package keeps a record of temporary installation path
install for x64
* installing *source* package 'profileScoreDist' ...
** libs
C:/Rtools/mingw_64/bin/g++ -std=gnu++11 -I"C:/Users/BIOCBU~1/BBS-3~1.10-/R/include" -DNDEBUG -I"C:/Users/biocbuild/bbs-3.10-bioc/R/library/Rcpp/include" -I"C:/extsoft/include" -O2 -Wall -mtune=core2 -c RcppExports.cpp -o RcppExports.o
C:/Rtools/mingw_64/bin/g++ -std=gnu++11 -I"C:/Users/BIOCBU~1/BBS-3~1.10-/R/include" -DNDEBUG -I"C:/Users/biocbuild/bbs-3.10-bioc/R/library/Rcpp/include" -I"C:/extsoft/include" -O2 -Wall -mtune=core2 -c profileConvolution.cpp -o profileConvolution.o
C:/Rtools/mingw_64/bin/g++ -std=gnu++11 -I"C:/Users/BIOCBU~1/BBS-3~1.10-/R/include" -DNDEBUG -I"C:/Users/biocbuild/bbs-3.10-bioc/R/library/Rcpp/include" -I"C:/extsoft/include" -O2 -Wall -mtune=core2 -c profilePosscoreprob.cpp -o profilePosscoreprob.o
C:/Rtools/mingw_64/bin/g++ -std=gnu++11 -shared -s -static-libgcc -o profileScoreDist.dll tmp.def RcppExports.o profileConvolution.o profilePosscoreprob.o -LC:/extsoft/lib/x64 -LC:/extsoft/lib -LC:/Users/BIOCBU~1/BBS-3~1.10-/R/bin/x64 -lR
installing to C:/Users/biocbuild/bbs-3.10-bioc/meat/profileScoreDist.buildbin-libdir/profileScoreDist/libs/x64
** testing if installed package can be loaded
* MD5 sums
packaged installation of 'profileScoreDist' as profileScoreDist_1.14.0.zip
* DONE (profileScoreDist)
* installing to library 'C:/Users/biocbuild/bbs-3.10-bioc/R/library'
package 'profileScoreDist' successfully unpacked and MD5 sums checked