| Back to Multiple platform build/check report for BioC 3.10 | 
 | 
This page was generated on 2020-04-15 12:17:51 -0400 (Wed, 15 Apr 2020).
| Package 1291/1823 | Hostname | OS / Arch | INSTALL | BUILD | CHECK | BUILD BIN | ||||||
| ppiStats 1.52.0 Bioconductor Package Maintainer 
 | malbec1 | Linux (Ubuntu 18.04.4 LTS) / x86_64 | OK | OK | OK |  | ||||||
| tokay1 | Windows Server 2012 R2 Standard / x64 | OK | OK | OK | [ OK ] |  | ||||||
| merida1 | OS X 10.11.6 El Capitan / x86_64 | OK | OK | OK | OK |  | 
| Package: ppiStats | 
| Version: 1.52.0 | 
| Command: rm -rf ppiStats.buildbin-libdir && mkdir ppiStats.buildbin-libdir && C:\Users\biocbuild\bbs-3.10-bioc\R\bin\R.exe CMD INSTALL --merge-multiarch --build --library=ppiStats.buildbin-libdir ppiStats_1.52.0.tar.gz | 
| StartedAt: 2020-04-15 09:24:34 -0400 (Wed, 15 Apr 2020) | 
| EndedAt: 2020-04-15 09:25:19 -0400 (Wed, 15 Apr 2020) | 
| EllapsedTime: 44.6 seconds | 
| RetCode: 0 | 
| Status: OK | 
| PackageFile: ppiStats_1.52.0.zip | 
| PackageFileSize: 1.269 MiB | 
##############################################################################
##############################################################################
###
### Running command:
###
###   rm -rf ppiStats.buildbin-libdir && mkdir ppiStats.buildbin-libdir && C:\Users\biocbuild\bbs-3.10-bioc\R\bin\R.exe CMD INSTALL --merge-multiarch --build --library=ppiStats.buildbin-libdir ppiStats_1.52.0.tar.gz
###
##############################################################################
##############################################################################
install for i386
* installing *source* package 'ppiStats' ...
** using staged installation
** R
** inst
** byte-compile and prepare package for lazy loading
No methods found in package 'Biobase' for request: 'listlen' when loading 'RpsiXML'
No methods found in package 'annotate' for requests: 'pubmed', 'buildPubMedAbst' when loading 'RpsiXML'
** help
*** installing help indices
  converting help for package 'ppiStats'
    finding HTML links ... done
    assessSymmetry                          html  
    bpMatrix                                html  
    calcInOutDegStats                       html  
    createSummaryTables                     html  
    degreeEstimates                         html  
    estErrProbMethodOfMoments               html  
    estimateCCMErrorRates                   html  
    estimatePPIErrorRates                   html  
    findAdjacent                            html  
    genBPGraph                              html  
    hgParams                                html  
    hgTests                                 html  
    idProteinErrorType                      html  
    idProteinType                           html  
    inOutScatterCharts                      html  
    nullDistDoublyTestedEdges               html  
    separateExptBySize                      html  
    twPERM                                  html  
    viabilityCharts                         html  
** building package indices
** installing vignettes
** testing if installed package can be loaded from temporary location
No methods found in package 'Biobase' for request: 'listlen' when loading 'RpsiXML'
No methods found in package 'annotate' for requests: 'pubmed', 'buildPubMedAbst' when loading 'RpsiXML'
** testing if installed package can be loaded from final location
No methods found in package 'Biobase' for request: 'listlen' when loading 'RpsiXML'
No methods found in package 'annotate' for requests: 'pubmed', 'buildPubMedAbst' when loading 'RpsiXML'
** testing if installed package keeps a record of temporary installation path
install for x64
* installing *source* package 'ppiStats' ...
** testing if installed package can be loaded
No methods found in package 'Biobase' for request: 'listlen' when loading 'RpsiXML'
No methods found in package 'annotate' for requests: 'pubmed', 'buildPubMedAbst' when loading 'RpsiXML'
* MD5 sums
packaged installation of 'ppiStats' as ppiStats_1.52.0.zip
* DONE (ppiStats)