| Back to Multiple platform build/check report for BioC 3.10 |
|
This page was generated on 2020-04-15 12:40:47 -0400 (Wed, 15 Apr 2020).
| Package 1284/1823 | Hostname | OS / Arch | INSTALL | BUILD | CHECK | BUILD BIN | ||||||
| polyester 1.22.0 Jack Fu
| malbec1 | Linux (Ubuntu 18.04.4 LTS) / x86_64 | OK | OK | OK | |||||||
| tokay1 | Windows Server 2012 R2 Standard / x64 | OK | OK | OK | OK | |||||||
| merida1 | OS X 10.11.6 El Capitan / x86_64 | OK | OK | OK | [ OK ] |
| Package: polyester |
| Version: 1.22.0 |
| Command: rm -rf polyester.buildbin-libdir && mkdir polyester.buildbin-libdir && /Users/biocbuild/BBS/utils/build-universal.sh polyester_1.22.0.tar.gz /Library/Frameworks/R.framework/Versions/Current/Resources/bin/R polyester.buildbin-libdir |
| StartedAt: 2020-04-15 08:22:22 -0400 (Wed, 15 Apr 2020) |
| EndedAt: 2020-04-15 08:23:08 -0400 (Wed, 15 Apr 2020) |
| EllapsedTime: 45.6 seconds |
| RetCode: 0 |
| Status: OK |
| PackageFile: polyester_1.22.0.tgz |
| PackageFileSize: 1.935 MiB |
############################################################################## ############################################################################## ### ### Running command: ### ### rm -rf polyester.buildbin-libdir && mkdir polyester.buildbin-libdir && /Users/biocbuild/BBS/utils/build-universal.sh polyester_1.22.0.tar.gz /Library/Frameworks/R.framework/Versions/Current/Resources/bin/R polyester.buildbin-libdir ### ############################################################################## ############################################################################## >>>>>>> >>>>>>> INSTALLATION WITH 'R CMD INSTALL --preclean --no-multiarch --library=polyester.buildbin-libdir polyester_1.22.0.tar.gz' >>>>>>> * installing *source* package ‘polyester’ ... ** using staged installation ** R ** data ** inst ** byte-compile and prepare package for lazy loading ** help *** installing help indices ** building package indices ** installing vignettes ** testing if installed package can be loaded from temporary location ** testing if installed package can be loaded from final location ** testing if installed package keeps a record of temporary installation path * DONE (polyester)