| Back to Multiple platform build/check report for BioC 3.10 | 
 | 
This page was generated on 2020-04-15 12:31:02 -0400 (Wed, 15 Apr 2020).
| Package 1276/1823 | Hostname | OS / Arch | INSTALL | BUILD | CHECK | BUILD BIN | ||||||
| plotGrouper 1.4.0 John D. Gagnon 
 | malbec1 | Linux (Ubuntu 18.04.4 LTS) / x86_64 | OK | OK | OK |  | ||||||
| tokay1 | Windows Server 2012 R2 Standard / x64 | [ OK ] | OK | OK | OK |  | ||||||
| merida1 | OS X 10.11.6 El Capitan / x86_64 | OK | OK | OK | OK |  | 
| Package: plotGrouper | 
| Version: 1.4.0 | 
| Command: C:\cygwin\bin\curl.exe -O https://malbec1.bioconductor.org/BBS/3.10/bioc/src/contrib/plotGrouper_1.4.0.tar.gz && rm -rf plotGrouper.buildbin-libdir && mkdir plotGrouper.buildbin-libdir && C:\Users\biocbuild\bbs-3.10-bioc\R\bin\R.exe CMD INSTALL --merge-multiarch --build --library=plotGrouper.buildbin-libdir plotGrouper_1.4.0.tar.gz && C:\Users\biocbuild\bbs-3.10-bioc\R\bin\R.exe CMD INSTALL plotGrouper_1.4.0.zip && rm plotGrouper_1.4.0.tar.gz plotGrouper_1.4.0.zip | 
| StartedAt: 2020-04-14 20:19:02 -0400 (Tue, 14 Apr 2020) | 
| EndedAt: 2020-04-14 20:20:13 -0400 (Tue, 14 Apr 2020) | 
| EllapsedTime: 71.7 seconds | 
| RetCode: 0 | 
| Status: OK | 
##############################################################################
##############################################################################
###
### Running command:
###
###   C:\cygwin\bin\curl.exe -O https://malbec1.bioconductor.org/BBS/3.10/bioc/src/contrib/plotGrouper_1.4.0.tar.gz && rm -rf plotGrouper.buildbin-libdir && mkdir plotGrouper.buildbin-libdir && C:\Users\biocbuild\bbs-3.10-bioc\R\bin\R.exe CMD INSTALL --merge-multiarch --build --library=plotGrouper.buildbin-libdir plotGrouper_1.4.0.tar.gz && C:\Users\biocbuild\bbs-3.10-bioc\R\bin\R.exe CMD INSTALL plotGrouper_1.4.0.zip && rm plotGrouper_1.4.0.tar.gz plotGrouper_1.4.0.zip
###
##############################################################################
##############################################################################
  % Total    % Received % Xferd  Average Speed   Time    Time     Time  Current
                                 Dload  Upload   Total   Spent    Left  Speed
  0     0    0     0    0     0      0      0 --:--:-- --:--:-- --:--:--     0
100 1429k  100 1429k    0     0  1847k      0 --:--:-- --:--:-- --:--:-- 1856k
install for i386
* installing *source* package 'plotGrouper' ...
** using staged installation
** R
** inst
** byte-compile and prepare package for lazy loading
** help
*** installing help indices
  converting help for package 'plotGrouper'
    finding HTML links ... done
    gplot                                   html  
    organizeData                            html  
    pipe                                    html  
    plotGrouper                             html  
    readData                                html  
    readData_example                        html  
** building package indices
** installing vignettes
** testing if installed package can be loaded from temporary location
** testing if installed package can be loaded from final location
** testing if installed package keeps a record of temporary installation path
install for x64
* installing *source* package 'plotGrouper' ...
** testing if installed package can be loaded
* MD5 sums
packaged installation of 'plotGrouper' as plotGrouper_1.4.0.zip
* DONE (plotGrouper)
* installing to library 'C:/Users/biocbuild/bbs-3.10-bioc/R/library'
package 'plotGrouper' successfully unpacked and MD5 sums checked