| Back to Multiple platform build/check report for BioC 3.10 | 
 | 
This page was generated on 2020-04-15 12:18:56 -0400 (Wed, 15 Apr 2020).
| Package 1272/1823 | Hostname | OS / Arch | INSTALL | BUILD | CHECK | BUILD BIN | ||||||
| Errol Strain 
 | malbec1 | Linux (Ubuntu 18.04.4 LTS) / x86_64 | ERROR | ERROR | skipped | |||||||
| tokay1 | Windows Server 2012 R2 Standard / x64 | ERROR | [ ERROR ] | skipped | skipped | |||||||
| merida1 | OS X 10.11.6 El Capitan / x86_64 | ERROR | ERROR | skipped | skipped | 
| Package: plateCore | 
| Version: 1.44.0 | 
| Command: chmod a+r plateCore -R && C:\Users\biocbuild\bbs-3.10-bioc\R\bin\R.exe CMD build --keep-empty-dirs --no-resave-data plateCore | 
| StartedAt: 2020-04-14 21:05:38 -0400 (Tue, 14 Apr 2020) | 
| EndedAt: 2020-04-14 21:06:09 -0400 (Tue, 14 Apr 2020) | 
| EllapsedTime: 31.4 seconds | 
| RetCode: 1 | 
| Status: ERROR | 
| PackageFile: plateCore_1.44.0.tar.gz | 
| PackageFileSize: 2.251 MiB | 
##############################################################################
##############################################################################
###
### Running command:
###
###   chmod a+r plateCore -R && C:\Users\biocbuild\bbs-3.10-bioc\R\bin\R.exe CMD build --keep-empty-dirs --no-resave-data plateCore
###
##############################################################################
##############################################################################
* checking for file 'plateCore/DESCRIPTION' ... OK
* preparing 'plateCore':
* checking DESCRIPTION meta-information ... OK
* installing the package to build vignettes
      -----------------------------------
* installing *source* package 'plateCore' ...
** using staged installation
** R
** data
** byte-compile and prepare package for lazy loading
Error: class "norm2Filter" is not exported by 'namespace:flowCore'
Execution halted
ERROR: lazy loading failed for package 'plateCore'
* removing 'C:/Users/biocbuild/bbs-3.10-bioc/tmpdir/Rtmp8iXjZ0/Rinst16d83c61233a/plateCore'
      -----------------------------------
ERROR: package installation failed