| Back to Multiple platform build/check report for BioC 3.10 | 
 | 
This page was generated on 2020-04-15 12:32:22 -0400 (Wed, 15 Apr 2020).
| Package 1270/1823 | Hostname | OS / Arch | INSTALL | BUILD | CHECK | BUILD BIN | ||||||
| pipeFrame 1.2.2 Zheng Wei 
 | malbec1 | Linux (Ubuntu 18.04.4 LTS) / x86_64 | OK | OK | OK |  | ||||||
| tokay1 | Windows Server 2012 R2 Standard / x64 | [ OK ] | OK | OK | OK |  | ||||||
| merida1 | OS X 10.11.6 El Capitan / x86_64 | OK | OK | OK | OK |  | 
| Package: pipeFrame | 
| Version: 1.2.2 | 
| Command: C:\cygwin\bin\curl.exe -O https://malbec1.bioconductor.org/BBS/3.10/bioc/src/contrib/pipeFrame_1.2.2.tar.gz && rm -rf pipeFrame.buildbin-libdir && mkdir pipeFrame.buildbin-libdir && C:\Users\biocbuild\bbs-3.10-bioc\R\bin\R.exe CMD INSTALL --merge-multiarch --build --library=pipeFrame.buildbin-libdir pipeFrame_1.2.2.tar.gz && C:\Users\biocbuild\bbs-3.10-bioc\R\bin\R.exe CMD INSTALL pipeFrame_1.2.2.zip && rm pipeFrame_1.2.2.tar.gz pipeFrame_1.2.2.zip | 
| StartedAt: 2020-04-14 20:06:10 -0400 (Tue, 14 Apr 2020) | 
| EndedAt: 2020-04-14 20:07:05 -0400 (Tue, 14 Apr 2020) | 
| EllapsedTime: 55.3 seconds | 
| RetCode: 0 | 
| Status: OK | 
##############################################################################
##############################################################################
###
### Running command:
###
###   C:\cygwin\bin\curl.exe -O https://malbec1.bioconductor.org/BBS/3.10/bioc/src/contrib/pipeFrame_1.2.2.tar.gz && rm -rf pipeFrame.buildbin-libdir && mkdir pipeFrame.buildbin-libdir && C:\Users\biocbuild\bbs-3.10-bioc\R\bin\R.exe CMD INSTALL --merge-multiarch --build --library=pipeFrame.buildbin-libdir pipeFrame_1.2.2.tar.gz && C:\Users\biocbuild\bbs-3.10-bioc\R\bin\R.exe CMD INSTALL pipeFrame_1.2.2.zip && rm pipeFrame_1.2.2.tar.gz pipeFrame_1.2.2.zip
###
##############################################################################
##############################################################################
  % Total    % Received % Xferd  Average Speed   Time    Time     Time  Current
                                 Dload  Upload   Total   Spent    Left  Speed
  0     0    0     0    0     0      0      0 --:--:-- --:--:-- --:--:--     0
100  383k  100  383k    0     0  1783k      0 --:--:-- --:--:-- --:--:-- 1819k
install for i386
* installing *source* package 'pipeFrame' ...
** using staged installation
** R
** inst
** byte-compile and prepare package for lazy loading
** help
*** installing help indices
  converting help for package 'pipeFrame'
    finding HTML links ... done
    Step-class                              html  
    Utils                                   html  
    getObjsInPipe                           html  
    graphMng                                html  
    initPipeFrame                           html  
    runWithFinishCheck                      html  
    setGenome                               html  
    setJobName                              html  
    setPipeName                             html  
    setRefDir                               html  
    setThreads                              html  
    setTmpDir                               html  
** building package indices
** installing vignettes
** testing if installed package can be loaded from temporary location
** testing if installed package can be loaded from final location
** testing if installed package keeps a record of temporary installation path
install for x64
* installing *source* package 'pipeFrame' ...
** testing if installed package can be loaded
* MD5 sums
packaged installation of 'pipeFrame' as pipeFrame_1.2.2.zip
* DONE (pipeFrame)
* installing to library 'C:/Users/biocbuild/bbs-3.10-bioc/R/library'
package 'pipeFrame' successfully unpacked and MD5 sums checked