| Back to Multiple platform build/check report for BioC 3.10 |
|
This page was generated on 2020-04-15 12:23:52 -0400 (Wed, 15 Apr 2020).
| Package 1232/1823 | Hostname | OS / Arch | INSTALL | BUILD | CHECK | BUILD BIN | ||||||
| paxtoolsr 1.20.0 Augustin Luna
| malbec1 | Linux (Ubuntu 18.04.4 LTS) / x86_64 | OK | OK | OK | |||||||
| tokay1 | Windows Server 2012 R2 Standard / x64 | OK | OK | OK | [ OK ] | |||||||
| merida1 | OS X 10.11.6 El Capitan / x86_64 | OK | OK | OK | OK |
| Package: paxtoolsr |
| Version: 1.20.0 |
| Command: rm -rf paxtoolsr.buildbin-libdir && mkdir paxtoolsr.buildbin-libdir && C:\Users\biocbuild\bbs-3.10-bioc\R\bin\R.exe CMD INSTALL --merge-multiarch --build --library=paxtoolsr.buildbin-libdir paxtoolsr_1.20.0.tar.gz |
| StartedAt: 2020-04-15 09:21:10 -0400 (Wed, 15 Apr 2020) |
| EndedAt: 2020-04-15 09:21:48 -0400 (Wed, 15 Apr 2020) |
| EllapsedTime: 38.4 seconds |
| RetCode: 0 |
| Status: OK |
| PackageFile: paxtoolsr_1.20.0.zip |
| PackageFileSize: 24.78 MiB |
##############################################################################
##############################################################################
###
### Running command:
###
### rm -rf paxtoolsr.buildbin-libdir && mkdir paxtoolsr.buildbin-libdir && C:\Users\biocbuild\bbs-3.10-bioc\R\bin\R.exe CMD INSTALL --merge-multiarch --build --library=paxtoolsr.buildbin-libdir paxtoolsr_1.20.0.tar.gz
###
##############################################################################
##############################################################################
install for i386
* installing *source* package 'paxtoolsr' ...
** using staged installation
** R
** inst
** byte-compile and prepare package for lazy loading
** help
*** installing help indices
converting help for package 'paxtoolsr'
finding HTML links ... done
addAttributeList html
convertDataFrameListsToVectors html
convertIds html
convertSifToGmt html
downloadFile html
downloadPc2 html
downloadSignedPC html
fetch html
filterSif html
getCacheFiles html
getErrorMessage html
getNeighbors html
getPc html
getPcDatabaseNames html
getPcUrl html
getShortestPathSif html
getSifInteractionCategories html
graphPc html
integrateBiopax html
loadSifInIgraph html
mapAttributes html
mapValues html
mergeBiopax html
pcDirections html
pcFormats html
pcGraphQueries html
processPcRequest html
readBiopax html
readGmt html
readPcPathwaysInfo html
readSbgn html
readSif html
readSifnx html
searchListOfVectors html
searchPc html
splitSifnxByPathway html
summarize html
summarizeSif html
toCytoscape html
toGSEA html
toLevel3 html
toSBGN html
toSif html
toSifnx html
topPathways html
traverse html
validate html
** building package indices
** installing vignettes
** testing if installed package can be loaded from temporary location
** testing if installed package can be loaded from final location
** testing if installed package keeps a record of temporary installation path
install for x64
* installing *source* package 'paxtoolsr' ...
** testing if installed package can be loaded
* MD5 sums
packaged installation of 'paxtoolsr' as paxtoolsr_1.20.0.zip
* DONE (paxtoolsr)