| Back to Multiple platform build/check report for BioC 3.10 | 
 | 
This page was generated on 2020-04-15 12:17:28 -0400 (Wed, 15 Apr 2020).
| Package 1227/1823 | Hostname | OS / Arch | INSTALL | BUILD | CHECK | BUILD BIN | ||||||
| pathRender 1.54.0 Vince Carey 
 | malbec1 | Linux (Ubuntu 18.04.4 LTS) / x86_64 | OK | OK | OK |  | ||||||
| tokay1 | Windows Server 2012 R2 Standard / x64 | [ OK ] | OK | OK | OK |  | ||||||
| merida1 | OS X 10.11.6 El Capitan / x86_64 | OK | OK | OK | OK |  | 
| Package: pathRender | 
| Version: 1.54.0 | 
| Command: C:\cygwin\bin\curl.exe -O https://malbec1.bioconductor.org/BBS/3.10/bioc/src/contrib/pathRender_1.54.0.tar.gz && rm -rf pathRender.buildbin-libdir && mkdir pathRender.buildbin-libdir && C:\Users\biocbuild\bbs-3.10-bioc\R\bin\R.exe CMD INSTALL --merge-multiarch --build --library=pathRender.buildbin-libdir pathRender_1.54.0.tar.gz && C:\Users\biocbuild\bbs-3.10-bioc\R\bin\R.exe CMD INSTALL pathRender_1.54.0.zip && rm pathRender_1.54.0.tar.gz pathRender_1.54.0.zip | 
| StartedAt: 2020-04-14 19:28:09 -0400 (Tue, 14 Apr 2020) | 
| EndedAt: 2020-04-14 19:28:34 -0400 (Tue, 14 Apr 2020) | 
| EllapsedTime: 24.8 seconds | 
| RetCode: 0 | 
| Status: OK | 
##############################################################################
##############################################################################
###
### Running command:
###
###   C:\cygwin\bin\curl.exe -O https://malbec1.bioconductor.org/BBS/3.10/bioc/src/contrib/pathRender_1.54.0.tar.gz && rm -rf pathRender.buildbin-libdir && mkdir pathRender.buildbin-libdir && C:\Users\biocbuild\bbs-3.10-bioc\R\bin\R.exe CMD INSTALL --merge-multiarch --build --library=pathRender.buildbin-libdir pathRender_1.54.0.tar.gz && C:\Users\biocbuild\bbs-3.10-bioc\R\bin\R.exe CMD INSTALL pathRender_1.54.0.zip && rm pathRender_1.54.0.tar.gz pathRender_1.54.0.zip
###
##############################################################################
##############################################################################
  % Total    % Received % Xferd  Average Speed   Time    Time     Time  Current
                                 Dload  Upload   Total   Spent    Left  Speed
  0     0    0     0    0     0      0      0 --:--:-- --:--:-- --:--:--     0
100 12598  100 12598    0     0   274k      0 --:--:-- --:--:-- --:--:--  300k
install for i386
* installing *source* package 'pathRender' ...
** using staged installation
** R
** inst
** byte-compile and prepare package for lazy loading
** help
*** installing help indices
  converting help for package 'pathRender'
    finding HTML links ... done
    colorNodes                              html  
    coloredGraph-class                      html  
    graphcMAP                               html  
    plotExGraph                             html  
    pwayGraph-class                         html  
    reduceES                                html  
    rendercMAP                              html  
** building package indices
** installing vignettes
** testing if installed package can be loaded from temporary location
** testing if installed package can be loaded from final location
** testing if installed package keeps a record of temporary installation path
install for x64
* installing *source* package 'pathRender' ...
** testing if installed package can be loaded
* MD5 sums
packaged installation of 'pathRender' as pathRender_1.54.0.zip
* DONE (pathRender)
* installing to library 'C:/Users/biocbuild/bbs-3.10-bioc/R/library'
package 'pathRender' successfully unpacked and MD5 sums checked