| Back to Multiple platform build/check report for BioC 3.10 | 
 | 
This page was generated on 2020-04-15 12:23:15 -0400 (Wed, 15 Apr 2020).
| Package 1314/1823 | Hostname | OS / Arch | INSTALL | BUILD | CHECK | BUILD BIN | ||||||
| pRolocGUI 1.20.0 Laurent Gatto 
 | malbec1 | Linux (Ubuntu 18.04.4 LTS) / x86_64 | OK | OK | OK |  | ||||||
| tokay1 | Windows Server 2012 R2 Standard / x64 | OK | OK | OK | [ OK ] |  | ||||||
| merida1 | OS X 10.11.6 El Capitan / x86_64 | OK | OK | OK | OK |  | 
| Package: pRolocGUI | 
| Version: 1.20.0 | 
| Command: rm -rf pRolocGUI.buildbin-libdir && mkdir pRolocGUI.buildbin-libdir && C:\Users\biocbuild\bbs-3.10-bioc\R\bin\R.exe CMD INSTALL --merge-multiarch --build --library=pRolocGUI.buildbin-libdir pRolocGUI_1.20.0.tar.gz | 
| StartedAt: 2020-04-15 09:25:50 -0400 (Wed, 15 Apr 2020) | 
| EndedAt: 2020-04-15 09:27:17 -0400 (Wed, 15 Apr 2020) | 
| EllapsedTime: 86.7 seconds | 
| RetCode: 0 | 
| Status: OK | 
| PackageFile: pRolocGUI_1.20.0.zip | 
| PackageFileSize: 1.673 MiB | 
##############################################################################
##############################################################################
###
### Running command:
###
###   rm -rf pRolocGUI.buildbin-libdir && mkdir pRolocGUI.buildbin-libdir && C:\Users\biocbuild\bbs-3.10-bioc\R\bin\R.exe CMD INSTALL --merge-multiarch --build --library=pRolocGUI.buildbin-libdir pRolocGUI_1.20.0.tar.gz
###
##############################################################################
##############################################################################
install for i386
* installing *source* package 'pRolocGUI' ...
** using staged installation
** R
** inst
** byte-compile and prepare package for lazy loading
Warning messages:
1: replacing previous import 'BiocGenerics::type' by 'kernlab::type' when loading 'pRoloc' 
2: replacing previous import 'mclust::dmvnorm' by 'mvtnorm::dmvnorm' when loading 'pRoloc' 
** help
*** installing help indices
  converting help for package 'pRolocGUI'
    finding HTML links ... done
    pRolocVis-apps                          html  
    finding level-2 HTML links ... done
** building package indices
** installing vignettes
** testing if installed package can be loaded from temporary location
Warning: replacing previous import 'BiocGenerics::type' by 'kernlab::type' when loading 'pRoloc'
Warning: replacing previous import 'mclust::dmvnorm' by 'mvtnorm::dmvnorm' when loading 'pRoloc'
** testing if installed package can be loaded from final location
Warning: replacing previous import 'BiocGenerics::type' by 'kernlab::type' when loading 'pRoloc'
Warning: replacing previous import 'mclust::dmvnorm' by 'mvtnorm::dmvnorm' when loading 'pRoloc'
** testing if installed package keeps a record of temporary installation path
install for x64
* installing *source* package 'pRolocGUI' ...
** testing if installed package can be loaded
Warning: replacing previous import 'BiocGenerics::type' by 'kernlab::type' when loading 'pRoloc'
Warning: replacing previous import 'mclust::dmvnorm' by 'mvtnorm::dmvnorm' when loading 'pRoloc'
* MD5 sums
packaged installation of 'pRolocGUI' as pRolocGUI_1.20.0.zip
* DONE (pRolocGUI)