| Back to Multiple platform build/check report for BioC 3.10 |
|
This page was generated on 2020-04-15 12:30:41 -0400 (Wed, 15 Apr 2020).
| Package 1190/1823 | Hostname | OS / Arch | INSTALL | BUILD | CHECK | BUILD BIN | ||||||
| onlineFDR 1.4.0 David S. Robertson
| malbec1 | Linux (Ubuntu 18.04.4 LTS) / x86_64 | OK | OK | OK | |||||||
| tokay1 | Windows Server 2012 R2 Standard / x64 | OK | OK | OK | [ OK ] | |||||||
| merida1 | OS X 10.11.6 El Capitan / x86_64 | OK | OK | OK | OK |
| Package: onlineFDR |
| Version: 1.4.0 |
| Command: rm -rf onlineFDR.buildbin-libdir && mkdir onlineFDR.buildbin-libdir && C:\Users\biocbuild\bbs-3.10-bioc\R\bin\R.exe CMD INSTALL --merge-multiarch --build --library=onlineFDR.buildbin-libdir onlineFDR_1.4.0.tar.gz |
| StartedAt: 2020-04-15 09:18:41 -0400 (Wed, 15 Apr 2020) |
| EndedAt: 2020-04-15 09:19:17 -0400 (Wed, 15 Apr 2020) |
| EllapsedTime: 36.1 seconds |
| RetCode: 0 |
| Status: OK |
| PackageFile: onlineFDR_1.4.0.zip |
| PackageFileSize: 423.1 KiB |
##############################################################################
##############################################################################
###
### Running command:
###
### rm -rf onlineFDR.buildbin-libdir && mkdir onlineFDR.buildbin-libdir && C:\Users\biocbuild\bbs-3.10-bioc\R\bin\R.exe CMD INSTALL --merge-multiarch --build --library=onlineFDR.buildbin-libdir onlineFDR_1.4.0.tar.gz
###
##############################################################################
##############################################################################
install for i386
* installing *source* package 'onlineFDR' ...
** using staged installation
** R
** inst
** byte-compile and prepare package for lazy loading
** help
*** installing help indices
converting help for package 'onlineFDR'
finding HTML links ... done
ADDIS html
ADDIS_spending html
Alpha_investing html
Alpha_spending html
LOND html
LONDstar html
LORD html
LORDdep html
LORDstar html
SAFFRON html
SAFFRONstar html
bonfInfinite html
onlineFDR-deprecated html
onlineFDR-package html
online_fallback html
** building package indices
** installing vignettes
** testing if installed package can be loaded from temporary location
** testing if installed package can be loaded from final location
** testing if installed package keeps a record of temporary installation path
install for x64
* installing *source* package 'onlineFDR' ...
** testing if installed package can be loaded
* MD5 sums
packaged installation of 'onlineFDR' as onlineFDR_1.4.0.zip
* DONE (onlineFDR)