| Back to Multiple platform build/check report for BioC 3.10 | 
 | 
This page was generated on 2020-04-15 12:29:49 -0400 (Wed, 15 Apr 2020).
| Package 1178/1823 | Hostname | OS / Arch | INSTALL | BUILD | CHECK | BUILD BIN | ||||||
| omicplotR 1.6.1 Daniel Giguere 
 | malbec1 | Linux (Ubuntu 18.04.4 LTS) / x86_64 | OK | OK | OK |  | ||||||
| tokay1 | Windows Server 2012 R2 Standard / x64 | OK | OK | OK | [ OK ] |  | ||||||
| merida1 | OS X 10.11.6 El Capitan / x86_64 | OK | OK | OK | OK |  | 
| Package: omicplotR | 
| Version: 1.6.1 | 
| Command: rm -rf omicplotR.buildbin-libdir && mkdir omicplotR.buildbin-libdir && C:\Users\biocbuild\bbs-3.10-bioc\R\bin\R.exe CMD INSTALL --merge-multiarch --build --library=omicplotR.buildbin-libdir omicplotR_1.6.1.tar.gz | 
| StartedAt: 2020-04-15 09:18:02 -0400 (Wed, 15 Apr 2020) | 
| EndedAt: 2020-04-15 09:18:37 -0400 (Wed, 15 Apr 2020) | 
| EllapsedTime: 34.7 seconds | 
| RetCode: 0 | 
| Status: OK | 
| PackageFile: omicplotR_1.6.1.zip | 
| PackageFileSize: 1.177 MiB | 
##############################################################################
##############################################################################
###
### Running command:
###
###   rm -rf omicplotR.buildbin-libdir && mkdir omicplotR.buildbin-libdir && C:\Users\biocbuild\bbs-3.10-bioc\R\bin\R.exe CMD INSTALL --merge-multiarch --build --library=omicplotR.buildbin-libdir omicplotR_1.6.1.tar.gz
###
##############################################################################
##############################################################################
install for i386
* installing *source* package 'omicplotR' ...
** using staged installation
** R
** data
*** moving datasets to lazyload DB
** inst
** byte-compile and prepare package for lazy loading
** help
*** installing help indices
  converting help for package 'omicplotR'
    finding HTML links ... done
    internal                                html  
    metadata                                html  
    omicplotR-package                       html  
    omicplotr.run                           html  
    otu_table                               html  
** building package indices
** installing vignettes
** testing if installed package can be loaded from temporary location
** testing if installed package can be loaded from final location
** testing if installed package keeps a record of temporary installation path
install for x64
* installing *source* package 'omicplotR' ...
** testing if installed package can be loaded
* MD5 sums
packaged installation of 'omicplotR' as omicplotR_1.6.1.zip
* DONE (omicplotR)