| Back to Multiple platform build/check report for BioC 3.10 | 
 | 
This page was generated on 2020-04-15 12:22:09 -0400 (Wed, 15 Apr 2020).
| Package 1176/1823 | Hostname | OS / Arch | INSTALL | BUILD | CHECK | BUILD BIN | ||||||
| omicade4 1.26.0 Chen Meng 
 | malbec1 | Linux (Ubuntu 18.04.4 LTS) / x86_64 | OK | OK | OK |  | ||||||
| tokay1 | Windows Server 2012 R2 Standard / x64 | OK | [ OK ] | OK | OK |  | ||||||
| merida1 | OS X 10.11.6 El Capitan / x86_64 | OK | OK | OK | OK |  | 
| Package: omicade4 | 
| Version: 1.26.0 | 
| Command: chmod a+r omicade4 -R && C:\Users\biocbuild\bbs-3.10-bioc\R\bin\R.exe CMD build --keep-empty-dirs --no-resave-data omicade4 | 
| StartedAt: 2020-04-14 21:46:59 -0400 (Tue, 14 Apr 2020) | 
| EndedAt: 2020-04-14 21:47:11 -0400 (Tue, 14 Apr 2020) | 
| EllapsedTime: 12.1 seconds | 
| RetCode: 0 | 
| Status: OK | 
| PackageFile: omicade4_1.26.0.tar.gz | 
| PackageFileSize: 444.9 KiB | 
##############################################################################
##############################################################################
###
### Running command:
###
###   chmod a+r omicade4 -R && C:\Users\biocbuild\bbs-3.10-bioc\R\bin\R.exe CMD build --keep-empty-dirs --no-resave-data omicade4
###
##############################################################################
##############################################################################
* checking for file 'omicade4/DESCRIPTION' ... OK
* preparing 'omicade4':
* checking DESCRIPTION meta-information ... OK
* installing the package to build vignettes
* creating vignettes ... OK
Warning: 'inst/doc' file
    'omicade4.Rnw'
  ignored as vignettes have been rebuilt.
  Run R CMD build with --no-build-vignettes to prevent rebuilding.
* checking for LF line-endings in source and make files and shell scripts
* checking for empty or unneeded directories
* looking to see if a 'data/datalist' file should be added
* building 'omicade4_1.26.0.tar.gz'