| Back to Multiple platform build/check report for BioC 3.10 |
|
This page was generated on 2020-04-15 12:25:50 -0400 (Wed, 15 Apr 2020).
| Package 1157/1823 | Hostname | OS / Arch | INSTALL | BUILD | CHECK | BUILD BIN | ||||||
| normalize450K 1.14.0 Jonathan Alexander Heiss
| malbec1 | Linux (Ubuntu 18.04.4 LTS) / x86_64 | OK | OK | OK | |||||||
| tokay1 | Windows Server 2012 R2 Standard / x64 | OK | OK | OK | [ OK ] | |||||||
| merida1 | OS X 10.11.6 El Capitan / x86_64 | OK | OK | OK | OK |
| Package: normalize450K |
| Version: 1.14.0 |
| Command: rm -rf normalize450K.buildbin-libdir && mkdir normalize450K.buildbin-libdir && C:\Users\biocbuild\bbs-3.10-bioc\R\bin\R.exe CMD INSTALL --merge-multiarch --build --library=normalize450K.buildbin-libdir normalize450K_1.14.0.tar.gz |
| StartedAt: 2020-04-15 09:16:48 -0400 (Wed, 15 Apr 2020) |
| EndedAt: 2020-04-15 09:17:13 -0400 (Wed, 15 Apr 2020) |
| EllapsedTime: 24.8 seconds |
| RetCode: 0 |
| Status: OK |
| PackageFile: normalize450K_1.14.0.zip |
| PackageFileSize: 3.071 MiB |
##############################################################################
##############################################################################
###
### Running command:
###
### rm -rf normalize450K.buildbin-libdir && mkdir normalize450K.buildbin-libdir && C:\Users\biocbuild\bbs-3.10-bioc\R\bin\R.exe CMD INSTALL --merge-multiarch --build --library=normalize450K.buildbin-libdir normalize450K_1.14.0.tar.gz
###
##############################################################################
##############################################################################
install for i386
* installing *source* package 'normalize450K' ...
** using staged installation
** R
** inst
** byte-compile and prepare package for lazy loading
** help
*** installing help indices
converting help for package 'normalize450K'
finding HTML links ... done
estimateLC html
read_and_normalize450K html
** building package indices
** installing vignettes
** testing if installed package can be loaded from temporary location
** testing if installed package can be loaded from final location
** testing if installed package keeps a record of temporary installation path
install for x64
* installing *source* package 'normalize450K' ...
** testing if installed package can be loaded
* MD5 sums
packaged installation of 'normalize450K' as normalize450K_1.14.0.zip
* DONE (normalize450K)