| Back to Multiple platform build/check report for BioC 3.10 |
|
This page was generated on 2020-04-15 12:30:31 -0400 (Wed, 15 Apr 2020).
| Package 1151/1823 | Hostname | OS / Arch | INSTALL | BUILD | CHECK | BUILD BIN | ||||||
| netSmooth 1.6.0 Jonathan Ronen
| malbec1 | Linux (Ubuntu 18.04.4 LTS) / x86_64 | OK | OK | OK | |||||||
| tokay1 | Windows Server 2012 R2 Standard / x64 | [ OK ] | OK | OK | OK | |||||||
| merida1 | OS X 10.11.6 El Capitan / x86_64 | OK | OK | OK | OK |
| Package: netSmooth |
| Version: 1.6.0 |
| Command: C:\cygwin\bin\curl.exe -O https://malbec1.bioconductor.org/BBS/3.10/bioc/src/contrib/netSmooth_1.6.0.tar.gz && rm -rf netSmooth.buildbin-libdir && mkdir netSmooth.buildbin-libdir && C:\Users\biocbuild\bbs-3.10-bioc\R\bin\R.exe CMD INSTALL --merge-multiarch --build --library=netSmooth.buildbin-libdir netSmooth_1.6.0.tar.gz && C:\Users\biocbuild\bbs-3.10-bioc\R\bin\R.exe CMD INSTALL netSmooth_1.6.0.zip && rm netSmooth_1.6.0.tar.gz netSmooth_1.6.0.zip |
| StartedAt: 2020-04-14 20:34:07 -0400 (Tue, 14 Apr 2020) |
| EndedAt: 2020-04-14 20:35:15 -0400 (Tue, 14 Apr 2020) |
| EllapsedTime: 67.6 seconds |
| RetCode: 0 |
| Status: OK |
##############################################################################
##############################################################################
###
### Running command:
###
### C:\cygwin\bin\curl.exe -O https://malbec1.bioconductor.org/BBS/3.10/bioc/src/contrib/netSmooth_1.6.0.tar.gz && rm -rf netSmooth.buildbin-libdir && mkdir netSmooth.buildbin-libdir && C:\Users\biocbuild\bbs-3.10-bioc\R\bin\R.exe CMD INSTALL --merge-multiarch --build --library=netSmooth.buildbin-libdir netSmooth_1.6.0.tar.gz && C:\Users\biocbuild\bbs-3.10-bioc\R\bin\R.exe CMD INSTALL netSmooth_1.6.0.zip && rm netSmooth_1.6.0.tar.gz netSmooth_1.6.0.zip
###
##############################################################################
##############################################################################
% Total % Received % Xferd Average Speed Time Time Time Current
Dload Upload Total Spent Left Speed
0 0 0 0 0 0 0 0 --:--:-- --:--:-- --:--:-- 0
100 2969k 100 2969k 0 0 12.4M 0 --:--:-- --:--:-- --:--:-- 12.6M
install for i386
* installing *source* package 'netSmooth' ...
** using staged installation
** R
** data
*** moving datasets to lazyload DB
** inst
** byte-compile and prepare package for lazy loading
** help
*** installing help indices
converting help for package 'netSmooth'
finding HTML links ... done
calc2DEntropy html
clusterExperimentWorkflow html
clusterOne html
dimReduce html
human.ppi html
l1NormalizeColumns html
l1NormalizeRows html
mouse.ppi html
netSmooth html
pickDimReduction html
projectFromNetworkRecombine-matrix-method
html
projectOnNetwork html
randomWalkByIterations html
randomWalkByMatrixInv-matrix-method html
randomWalkBySolve-matrix-method html
robustClusters html
scoreSmoothing html
smallPPI html
smallscRNAseq html
smoothAndRecombine-matrix-method html
** building package indices
** installing vignettes
** testing if installed package can be loaded from temporary location
** testing if installed package can be loaded from final location
** testing if installed package keeps a record of temporary installation path
install for x64
* installing *source* package 'netSmooth' ...
** testing if installed package can be loaded
* MD5 sums
packaged installation of 'netSmooth' as netSmooth_1.6.0.zip
* DONE (netSmooth)
* installing to library 'C:/Users/biocbuild/bbs-3.10-bioc/R/library'
package 'netSmooth' successfully unpacked and MD5 sums checked