| Back to Multiple platform build/check report for BioC 3.10 | 
 | 
This page was generated on 2020-04-15 12:28:10 -0400 (Wed, 15 Apr 2020).
| Package 1148/1823 | Hostname | OS / Arch | INSTALL | BUILD | CHECK | BUILD BIN | ||||||
| netReg 1.10.0 Simon Dirmeier 
 | malbec1 | Linux (Ubuntu 18.04.4 LTS) / x86_64 | OK | OK | WARNINGS |  | ||||||
| tokay1 | Windows Server 2012 R2 Standard / x64 | OK | [ OK ] | OK | OK |  | ||||||
| merida1 | OS X 10.11.6 El Capitan / x86_64 | OK | OK | OK | OK |  | 
| Package: netReg | 
| Version: 1.10.0 | 
| Command: chmod a+r netReg -R && C:\Users\biocbuild\bbs-3.10-bioc\R\bin\R.exe CMD build --keep-empty-dirs --no-resave-data netReg | 
| StartedAt: 2020-04-14 23:38:46 -0400 (Tue, 14 Apr 2020) | 
| EndedAt: 2020-04-14 23:40:59 -0400 (Tue, 14 Apr 2020) | 
| EllapsedTime: 133.3 seconds | 
| RetCode: 0 | 
| Status: OK | 
| PackageFile: netReg_1.10.0.tar.gz | 
| PackageFileSize: 2.686 MiB | 
############################################################################## ############################################################################## ### ### Running command: ### ### chmod a+r netReg -R && C:\Users\biocbuild\bbs-3.10-bioc\R\bin\R.exe CMD build --keep-empty-dirs --no-resave-data netReg ### ############################################################################## ############################################################################## * checking for file 'netReg/DESCRIPTION' ... OK * preparing 'netReg': * checking DESCRIPTION meta-information ... OK * cleaning src * running 'cleanup.win' * installing the package to build vignettes * creating vignettes ... OK * cleaning src * running 'cleanup.win' * checking for LF line-endings in source and make files and shell scripts * checking for empty or unneeded directories * looking to see if a 'data/datalist' file should be added * building 'netReg_1.10.0.tar.gz' Warning: file 'netReg/configure' did not have execute permissions: corrected