| Back to Multiple platform build/check report for BioC 3.10 |
|
This page was generated on 2020-04-15 12:28:29 -0400 (Wed, 15 Apr 2020).
| Package 1139/1823 | Hostname | OS / Arch | INSTALL | BUILD | CHECK | BUILD BIN | ||||||
| ndexr 1.8.0 Florian Auer
| malbec1 | Linux (Ubuntu 18.04.4 LTS) / x86_64 | OK | OK | OK | |||||||
| tokay1 | Windows Server 2012 R2 Standard / x64 | OK | [ OK ] | WARNINGS | OK | |||||||
| merida1 | OS X 10.11.6 El Capitan / x86_64 | OK | OK | OK | OK |
| Package: ndexr |
| Version: 1.8.0 |
| Command: chmod a+r ndexr -R && C:\Users\biocbuild\bbs-3.10-bioc\R\bin\R.exe CMD build --keep-empty-dirs --no-resave-data ndexr |
| StartedAt: 2020-04-14 23:42:50 -0400 (Tue, 14 Apr 2020) |
| EndedAt: 2020-04-14 23:43:18 -0400 (Tue, 14 Apr 2020) |
| EllapsedTime: 28.0 seconds |
| RetCode: 0 |
| Status: OK |
| PackageFile: ndexr_1.8.0.tar.gz |
| PackageFileSize: 363.2 KiB |
##############################################################################
##############################################################################
###
### Running command:
###
### chmod a+r ndexr -R && C:\Users\biocbuild\bbs-3.10-bioc\R\bin\R.exe CMD build --keep-empty-dirs --no-resave-data ndexr
###
##############################################################################
##############################################################################
* checking for file 'ndexr/DESCRIPTION' ... OK
* preparing 'ndexr':
* checking DESCRIPTION meta-information ... OK
* installing the package to build vignettes
* creating vignettes ... OK
Warning: 'inst/doc' files
'ndexr-vignette.Rmd', 'ndexr-vignette.html', 'ndexr-vignette.R'
ignored as vignettes have been rebuilt.
Run R CMD build with --no-build-vignettes to prevent rebuilding.
* excluding invalid files
Subdirectory 'R' contains invalid file names:
'ndex_api_config.yml'
* checking for LF line-endings in source and make files and shell scripts
* checking for empty or unneeded directories
WARNING: Removing directory 'ndexr/Meta' which should only occur in an
installed package
* building 'ndexr_1.8.0.tar.gz'